BEGIN:VCALENDAR
VERSION:2.0
PRODID:-//ChamberMaster//Event Calendar 2.0//EN
METHOD:PUBLISH
X-PUBLISHED-TTL:P3D
REFRESH-INTERVAL:P3D
CALSCALE:GREGORIAN
BEGIN:VEVENT
DTSTART:20240411T220000Z
DTEND:20240412T000000Z
X-MICROSOFT-CDO-ALLDAYEVENT:FALSE
SUMMARY:GHCA 2024 Golf Clinic/ Session 3- Group 2
DESCRIPTION:Starting March 19 and every Tuesday or Thursday (depending on the group schedule you join) we will meet at RiverPines Golf Course in Johns Creek for six weeks to master our abilities in golf. If you are not a natural\, don't worry\, we can start from the very beginning!\n\nThe lessons have been designed for small groups of 6 participants\, thus allowing more personalized attention. Don't be left behind in those conversations where business is done!\n\nSince 2021 we offer Golf Clinic to help our members develop their skills and master the technicalities of the sport with ease\, understanding that these skills will help expand growth opportunities for their businesses and careers. And\, at the same time\, creating new connections in a fun environment! \n\nThis year we are back at RiverPines Golf Course in Johns Creek\, to allow you to train on a real golf course\, the best way to get ready for our GHCA Golf Tournament 2024 on May 10 at Bear's Best!
X-ALT-DESC;FMTTYPE=text/html:<span style="background-image:initial\;background-position:initial\;background-size:initial\;background-repeat:initial\;background-attachment:initial\;background-origin:initial\;background-clip:initial\;"><span style="color:black\;"><span style="font-family:tahoma\,sans-serif\;"><span style="font-size:16.5pt\;">Starting&nbsp\;<strong>March 19</strong>&nbsp\;and every Tuesday or Thursday (depending on the group schedule you join) we will meet at&nbsp\;<strong>RiverPines Golf&nbsp\;Course</strong>&nbsp\;in Johns Creek for six weeks to master our abilities in golf. If you are not a natural\, don&rsquo\;t worry\, we can start from the very beginning!</span></span></span></span><br />\n<span style="color:black\;"><span style="font-family:tahoma\,sans-serif\;"><span style="font-size:16.5pt\;"><span style="background-image:initial\;background-position:initial\;background-size:initial\;background-repeat:initial\;background-attachment:initial\;background-origin:initial\;background-clip:initial\;">The lessons have been designed for small groups of 6 participants\, thus allowing more personalized attention. Don&rsquo\;t be left behind in those conversations where business is done!</span><br />\n<span style="background-image:initial\;background-position:initial\;background-size:initial\;background-repeat:initial\;background-attachment:initial\;background-origin:initial\;background-clip:initial\;">Since 2021 we offer&nbsp\;<strong>Golf Clinic</strong>&nbsp\;to help our members develop their skills and master the technicalities of the sport with ease\, understanding that these skills will help expand growth opportunities for their businesses and careers. And\, at the same time\, creating new connections in a fun environment!&nbsp\;</span><br />\n<span style="background-image:initial\;background-position:initial\;background-size:initial\;background-repeat:initial\;background-attachment:initial\;background-origin:initial\;background-clip:initial\;">This year we are back at&nbsp\;<strong>RiverPines Golf&nbsp\;Course</strong>&nbsp\;in Johns Creek\, to allow you to train on a real golf course\, the best way to get ready for our&nbsp\;<strong><em>GHCA Golf Tournament 2024</em></strong>&nbsp\;on May 10 at&nbsp\;<strong>Bear&#39\;s Best</strong>!</span></span></span></span>
LOCATION:RiverPines Golf Course 4775 Old Alabama Rd\, Johns Creek\, GA\, 30022
UID:e.9342.1794
SEQUENCE:3
DTSTAMP:20260420T020916Z
URL:http://georgiahcaga.memberzone.com/events/details/ghca-2024-golf-clinic-session-3-group-2-1794
END:VEVENT

END:VCALENDAR
