BEGIN:VCALENDAR
VERSION:2.0
PRODID:-//ChamberMaster//Event Calendar 2.0//EN
METHOD:PUBLISH
X-PUBLISHED-TTL:P3D
REFRESH-INTERVAL:P3D
CALSCALE:GREGORIAN
BEGIN:VEVENT
DTSTART:20210529T030000Z
DTEND:20210528T220000Z
X-MICROSOFT-CDO-ALLDAYEVENT:FALSE
SUMMARY:GHCA Golf Tournament
DESCRIPTION:The GHCA celebrates its 10th anniversary by inviting you to GHCA Golf Tournament 2021 that will take place on Friday\, May 28\, 2021\, at Bear's Best Atlanta. Join us for an afternoon of Golf and fun sharing and networking with Georgia's finest construction companies. Please select your Sponsorship Level or Foursome\, fill out the registration form\, and submit your payment.\n\n\n\nRegister
X-ALT-DESC;FMTTYPE=text/html:<span style="caret-color: rgb(28\, 28\, 28)\; color: rgb(28\, 28\, 28)\; font-family: Helvetica\, Verdana\, Arial\, sans-serif\; font-size: 18px\;">The GHCA celebrates its 10th anniversary by inviting you to GHCA Golf Tournament 2021 that will take place on Friday\, May 28\, 2021\, at Bear&#39\;s Best Atlanta. Join us for an afternoon of Golf and fun sharing and networking with Georgia&#39\;s finest construction companies. Please select your Sponsorship Level or Foursome\, fill out the registration form\, and submit your payment.<br />\n<br />\n<a href="https://www.georgiahca.org/ghca-golf-tournament-2021/">Register</a></span>
LOCATION:Bear's Best Atlanta Bear's Best Atlanta is one of the best daily fee courses in Georgia\, offering corporate entertaining\, golf outings and providing the experience of a luxurious private club at a public facility for all golfers. Jack Nicklaus chose 18 of his best and most memorable designs for this course. 5342 Aldeburgh Drive\, Suwanee\, GA 30024
UID:e.9342.1551
SEQUENCE:3
DTSTAMP:20260423T031109Z
URL:http://georgiahcaga.memberzone.com/events/details/ghca-golf-tournament-1551
END:VEVENT

END:VCALENDAR
