BEGIN:VCALENDAR
VERSION:2.0
PRODID:-//ChamberMaster//Event Calendar 2.0//EN
METHOD:PUBLISH
X-PUBLISHED-TTL:P3D
REFRESH-INTERVAL:P3D
CALSCALE:GREGORIAN
BEGIN:VEVENT
DTSTART:20230323T160000Z
DTEND:20230323T183000Z
X-MICROSOFT-CDO-ALLDAYEVENT:FALSE
SUMMARY:GHCA Lunch & Learn: Neuromanagement en liderazgo femenino
DESCRIPTION:Por qu  los hombres y las mujeres tenemos estilos de liderazgo tan diferentes? La clave est  en el cerebro humano. En esta sesi n interactiva\, dise ada especialmente para Latinas en Construcci n\, la neuropsic loga Ella Duarte ser  nuestra gu a para entender fundamentos b sicos de la neurociencia aplicada a la gesti n exitosa en las empresas o neuromanagement y aprender herramientas  tiles para activar las  reas cerebrales relacionadas con el pensamiento estrat gico.\n\n \n\nEs una disciplina que est  cobrando cada vez mayor relevancia dentro del mundo corporativo debido a los grandes beneficios que ofrece para mejorar el clima laboral: act a como elemento motivador\, facilita la toma de decisiones y la gesti n de cambio\, aumenta la creatividad e influye en los procesos de reclutamiento. Se aplica mediante programas de entrenamiento dirigidos a optimizar las capacidades cognitivas y emocionales de cada persona\, potenciando as  nuestras competencias tanto a nivel individual como en nuestras funciones laborales. Al perfeccionar tus procesos cerebrales\, podr s tomar decisiones en un tiempo  ptimo\, mejorar tus comunicaciones\, alcanzar metas\, brindar soluciones estrat gicas a problemas emergentes\, minimizar la resistencia al cambio y gestionar efectivamente las emociones y el estr s.
X-ALT-DESC;FMTTYPE=text/html:<span style="color:#000000\;"><span style="font-size:20px\;"><span style="font-family:tahoma\;"><span style="font-size:22px\;">&iquest\;Por qu&eacute\; los hombres y las mujeres tenemos estilos de liderazgo tan diferentes? La clave est&aacute\; en el cerebro humano. En esta sesi&oacute\;n interactiva\, dise&ntilde\;ada especialmente para <strong><em>Latinas en Construcci&oacute\;n</em></strong>\, la neuropsic&oacute\;loga Ella Duarte ser&aacute\; nuestra gu&iacute\;a para entender fundamentos b&aacute\;sicos de la neurociencia aplicada a la gesti&oacute\;n exitosa en las empresas o <strong><em>neuromanagement</em></strong> y aprender herramientas &uacute\;tiles para activar las &aacute\;reas cerebrales relacionadas con el pensamiento estrat&eacute\;gico.<br />\n&nbsp\;<br />\nEs </span><span style="letter-spacing:.15pt\;"><span style="font-size:22px\;">una disciplina que est&aacute\; cobrando cada vez mayor relevancia dentro del mundo corporativo debido a los grandes beneficios que ofrece para mejorar el clima laboral: act&uacute\;a como elemento motivador\, facilita la toma de decisiones y la gesti&oacute\;n de cambio\, aumenta la creatividad e influye en los procesos de reclutamiento. Se aplica mediante <span style="border:none windowtext 1.0pt\;padding:0in\;">programas de entrenamiento</span> dirigidos a optimizar las capacidades cognitivas y emocionales de cada persona\, potenciando as&iacute\; nuestras competencias tanto a nivel individual como en nuestras funciones laborales. Al perfeccionar <span style="border:none windowtext 1.0pt\;padding:0in\;">tus procesos cerebrales\, podr&aacute\;s tomar </span>decisiones en un tiempo &oacute\;ptimo\, mejorar tus comunicaciones\, alcanzar metas\, brindar soluciones estrat&eacute\;gicas a problemas emergentes\, minimizar la resistencia al cambio y gestionar efectivamente las emociones y el estr&eacute\;s.</span> </span></span></span></span>
LOCATION:Segundo piso\, auditorio #1
UID:e.9342.1711
SEQUENCE:3
DTSTAMP:20260421T081005Z
URL:http://georgiahcaga.memberzone.com/events/details/ghca-lunch-learn-neuromanagement-en-liderazgo-femenino-1711
END:VEVENT

END:VCALENDAR
