BEGIN:VCALENDAR
VERSION:2.0
PRODID:-//ChamberMaster//Event Calendar 2.0//EN
METHOD:PUBLISH
X-PUBLISHED-TTL:P3D
REFRESH-INTERVAL:P3D
CALSCALE:GREGORIAN
BEGIN:VEVENT
DTSTART:20190611T220000Z
DTEND:20190612T003000Z
X-MICROSOFT-CDO-ALLDAYEVENT:FALSE
SUMMARY:GHCA Meet & Greet
DESCRIPTION:GHCA September Meet & Greet! \n\nJoin us at Mojito's for a SPECIAL EDITION of our bimonthly MEET & GREET!\n\nConnect with the construction community in Georgia including a wide variety of industry professionals\, contractors\, suppliers\, corporate and community partners. Enjoy complimentary appetizers. Cash bar is also available.
X-ALT-DESC;FMTTYPE=text/html:<span style="font-family:arial\;"><span style="color: rgb(29\, 33\, 41)\; font-size: 14px\; white-space: pre-wrap\;">GHCA September Meet &amp\; Greet! </span><br style="color: rgb(29\, 33\, 41)\; font-family: system-ui\, -apple-system\, BlinkMacSystemFont\, &quot\;.SFNSText-Regular&quot\;\, sans-serif\; font-size: 14px\; white-space: pre-wrap\;" />\n<span style="color: rgb(29\, 33\, 41)\; font-size: 14px\; white-space: pre-wrap\;">Join us at Mojito&#39\;s for a SPECIAL EDITION of our bimonthly MEET &amp\; GREET!</span><br style="color: rgb(29\, 33\, 41)\; font-family: system-ui\, -apple-system\, BlinkMacSystemFont\, &quot\;.SFNSText-Regular&quot\;\, sans-serif\; font-size: 14px\; white-space: pre-wrap\;" />\n<span style="color: rgb(29\, 33\, 41)\; font-size: 14px\; white-space: pre-wrap\;">Connect with the construction community in Georgia including a wide variety of industry professionals\, contractors\, suppliers\, corporate and community partners. Enjoy complimentary appetizers. Cash bar is also available.</span></span>
LOCATION:
UID:e.9342.1376
SEQUENCE:3
DTSTAMP:20260425T113210Z
URL:http://georgiahcaga.memberzone.com/events/details/ghca-meet-greet-1376
END:VEVENT

END:VCALENDAR
