BEGIN:VCALENDAR
VERSION:2.0
PRODID:-//ChamberMaster//Event Calendar 2.0//EN
METHOD:PUBLISH
X-PUBLISHED-TTL:P3D
REFRESH-INTERVAL:P3D
CALSCALE:GREGORIAN
BEGIN:VEVENT
DTSTART:20230916T130000Z
DTEND:20230916T220000Z
X-MICROSOFT-CDO-ALLDAYEVENT:FALSE
SUMMARY:GHCA Mundialito & Expo 2023
DESCRIPTION:Players will face their rivals once again in another GHCA Mundialito\, this year better and stronger! 16 teams will seek to reach the top\, but only one can be crowned the GHCA 2023 Mundialito champion  Let s give our best and find out on Saturday\, September the 16th who will be!\n\nWhile our players are enjoying their matches\, we will host the Mundialito Expo\, where members that acquire a booth will have an incredible opportunity to promote their companies\, integrate their work teams and\, of course\, live the passion of soccer up close!\n\nKids will also have an awesome time: we are planning different and exciting entertainment activities all day long! We want to make sure this is going to be a perfect GHCA Family Day\, an event designed for our community of Hispanic builders in Georgia! \n\nGo ahead and register your team\, purchase your space to participate in our expo and look at all the amazing sponsorship opportunities! We will see you on September 16th at Atlanta Silverbacks Park\, located at 3200 Atlanta Silverbacks Way\, Atlanta\, GA 30340. Registration starts at 8:00 a.m. followed by the first match at 9 a.m.
X-ALT-DESC;FMTTYPE=text/html:<p style="margin-top:0in\;margin-right:0in\;margin-bottom:7.5pt\;margin-left:0in\;\ntext-align:justify"><span style="font-size:22px\;"><span style="font-family:tahoma\;"><span style="color:#000000\;">Players will face their rivals once again in another <b>GHCA Mundialito</b>\, this year better and stronger! 16 teams will seek to reach the top\, but only one can be crowned the <b>GHCA 2023 Mundialito <i>champion</i></b>&hellip\; Let&acute\;s give our best and find out on Saturday\, September the 16<sup>th</sup> who will be!</span></span></span><span style="font-family: Helvetica\, sans-serif\;"><o:p></o:p></span></p>\n\n<p style="margin-top:0in\;margin-right:0in\;margin-bottom:7.5pt\;margin-left:0in\;\ntext-align:justify"><span style="font-size:22px\;"><span style="font-family:tahoma\;"><span style="color:#000000\;">While our players are enjoying their matches\, we will host the <b>Mundialito Expo</b>\, where members that acquire a booth will have an incredible opportunity to promote their companies\, integrate their work teams and\, of course\, live the passion of soccer up close!</span></span></span><span style="font-family: Helvetica\, sans-serif\;"><o:p></o:p></span></p>\n\n<p style="margin-top:0in\;margin-right:0in\;margin-bottom:7.5pt\;margin-left:0in\;\ntext-align:justify"><span style="font-size:22px\;"><span style="font-family:tahoma\;"><span style="color:#000000\;">Kids will also have an awesome time: we are planning different and exciting entertainment activities all day long! We want to make sure this is going to be a perfect <b>GHCA Family Day\,</b> an event designed for our community of Hispanic builders in Georgia! </span></span></span><span style="font-family: Helvetica\, sans-serif\;"><o:p></o:p></span></p>\n\n<p style="margin-top:0in\;margin-right:0in\;margin-bottom:7.5pt\;margin-left:0in\;\ntext-align:justify\;font-variant-ligatures: normal\;font-variant-caps: normal\;\norphans: 2\;text-align:start\;widows: 2\;-webkit-text-stroke-width: 0px\;\ntext-decoration-thickness: initial\;text-decoration-style: initial\;text-decoration-color: initial\;\nbox-sizing: border-box\;caret-color: rgb(28\, 28\, 28)\;word-spacing:0px"><span style="font-size:22px\;"><span style="font-family:tahoma\;"><span style="color:#000000\;">Go ahead and register your team\, purchase your space to participate in our expo and look at all the amazing sponsorship opportunities! We will see you on <b>September 16th</b> at <b><i>Atlanta Silverbacks Park</i></b>\, located at 3200 Atlanta Silverbacks Way\, Atlanta\, GA 30340. Registration starts at 8:00 a.m. followed by the first match at 9 a.m.</span></span></span><span style="font-family:&quot\;Helvetica&quot\;\,sans-serif\;color:#1C1C1C"> <o:p></o:p></span></p>\n
LOCATION:Atlanta Silverbacks Park 3200 Atlanta Silverbacks Way\, Atlanta\, GA 30340
UID:e.9342.1742
SEQUENCE:3
DTSTAMP:20260420T161312Z
URL:http://georgiahcaga.memberzone.com/events/details/ghca-mundialito-expo-2023-1742
END:VEVENT

END:VCALENDAR
