BEGIN:VCALENDAR
VERSION:2.0
PRODID:-//ChamberMaster//Event Calendar 2.0//EN
METHOD:PUBLISH
X-PUBLISHED-TTL:P3D
REFRESH-INTERVAL:P3D
CALSCALE:GREGORIAN
BEGIN:VEVENT
DTSTART:20180924T220000Z
DTEND:20180925T003000Z
X-MICROSOFT-CDO-ALLDAYEVENT:FALSE
SUMMARY:GHCA September Meet & Greet!
DESCRIPTION:GRATIS en l nea en https://bit.ly/2QjhMOf\n\n  nete a nosotros en Mojito's para una EDICI N ESPECIAL de nuestro encuentro y saludo bimestral con el sabor de CUBA!\n\nCon ctese con la comunidad de la construcci n en Georgia\, que incluye una amplia variedad de profesionales de la industria\, contratistas\, proveedores\, socios corporativos y comunitarios. Disfrute de aperitivos de cortes a. Barra de efectivo tambi n est  disponible.\n\n\n\n\nFREE Online at https://bit.ly/2QjhMOf\n\nJoin us at Mojito's for a SPECIAL EDITION of our bimonthly MEET & GREET with the taste of CUBA! \n\nConnect with the construction community in Georgia including a wide variety of industry professionals\, contractors\, suppliers\, corporate and community partners. Enjoy complimentary appetizers. Cash bar is also available.
X-ALT-DESC;FMTTYPE=text/html:<p dir="ltr" style="line-height:1.38\;margin-top:0pt\;margin-bottom:0pt\;"><span id="docs-internal-guid-dbb52a55-7fff-8f9d-e505-908157c4908c"><span style="font-size: 11pt\; font-family: Arial\; color: rgb(0\, 0\, 0)\; background-color: transparent\; font-variant-numeric: normal\; font-variant-east-asian: normal\; vertical-align: baseline\; white-space: pre-wrap\;">GRATIS en l&iacute\;nea en https://bit.ly/2QjhMOf</span><br class="kix-line-break" />\n<span style="font-size: 11pt\; font-family: Arial\; color: rgb(0\, 0\, 0)\; background-color: transparent\; font-variant-numeric: normal\; font-variant-east-asian: normal\; vertical-align: baseline\; white-space: pre-wrap\;">&iexcl\;&Uacute\;nete a nosotros en Mojito&#39\;s para una EDICI&Oacute\;N ESPECIAL de nuestro encuentro y saludo bimestral con el sabor de CUBA!</span><br class="kix-line-break" />\n<span style="font-size: 11pt\; font-family: Arial\; color: rgb(0\, 0\, 0)\; background-color: transparent\; font-variant-numeric: normal\; font-variant-east-asian: normal\; vertical-align: baseline\; white-space: pre-wrap\;">Con&eacute\;ctese con la comunidad de la construcci&oacute\;n en Georgia\, que incluye una amplia variedad de profesionales de la industria\, contratistas\, proveedores\, socios corporativos y comunitarios. Disfrute de aperitivos de cortes&iacute\;a. Barra de efectivo tambi&eacute\;n est&aacute\; disponible.</span></span></p>\n<br />\n<br style="color: rgb(29\, 33\, 41)\; font-family: Helvetica\, Arial\, sans-serif\; font-size: 14px\;" />\n<span style="color: rgb(29\, 33\, 41)\; font-family: Helvetica\, Arial\, sans-serif\; font-size: 14px\;">FREE Online at&nbsp\;</span><a data-lynx-mode="hover" data-lynx-uri="https://l.facebook.com/l.php?u=https%3A%2F%2Fbit.ly%2F2QjhMOf&amp\;h=AT3nLUJuVWU7OXJlBGUU82QcrpHLVH8drtr6Bezifmg9SMUAuF0NOkwOyNCqZ6MQ26BvB_3JwSCJDyl4UJhqnHKhxuTekfDHMpcprgSiMgM1MDRz_6AkI8AfOf2dNMGiTQ" href="https://bit.ly/2QjhMOf" rel="nofollow noopener" style="color: rgb(54\, 88\, 153)\; cursor: pointer\; text-decoration-line: none\; font-family: Helvetica\, Arial\, sans-serif\; font-size: 14px\;" target="_blank">https://bit.ly/2QjhMOf</a><br style="color: rgb(29\, 33\, 41)\; font-family: Helvetica\, Arial\, sans-serif\; font-size: 14px\;" />\n<span style="color: rgb(29\, 33\, 41)\; font-family: Helvetica\, Arial\, sans-serif\; font-size: 14px\;">Join us at Mojito&#39\;s for a SPECIAL EDITION of our bimonthly MEET &amp\; GREET with the taste of CUBA!&nbsp\;</span><br style="color: rgb(29\, 33\, 41)\; font-family: Helvetica\, Arial\, sans-serif\; font-size: 14px\;" />\n<span style="color: rgb(29\, 33\, 41)\; font-family: Helvetica\, Arial\, sans-serif\; font-size: 14px\;">Connect with the construction community in Georgia including a wide variety of industry professionals\, contractors\, suppliers\, corporate and community partners. Enjoy complimentary appetizers. Cash bar is also available.</span>
LOCATION:
UID:e.9342.1349
SEQUENCE:3
DTSTAMP:20260426T031234Z
URL:http://georgiahcaga.memberzone.com/events/details/ghca-september-meet-greet-1349
END:VEVENT

END:VCALENDAR
