BEGIN:VCALENDAR
VERSION:2.0
PRODID:-//ChamberMaster//Event Calendar 2.0//EN
METHOD:PUBLISH
X-PUBLISHED-TTL:P3D
REFRESH-INTERVAL:P3D
CALSCALE:GREGORIAN
BEGIN:VEVENT
DTSTART:20200603T203000Z
DTEND:20200603T220000Z
X-MICROSOFT-CDO-ALLDAYEVENT:FALSE
SUMMARY:GREEN CARD A través de Empleo
DESCRIPTION:Acomp  enos v a Zoom/FB Live a conocer la informaci n para aplicar a la Green Card a trav s de Empleo. \n\n\n\nSi usted tiene un TPS\, una aplicaci n de Asilo pendiente\, o DACA\, usted puede aplicar por la Green Card a trav s del empleo. \n\n \nMatthew Hines\n\nDue o de Law Offices of Matthew C. Hines\n\n\n\n\nMark Yera \n\nDue o de Law Offices of Mark Reder Yera
X-ALT-DESC;FMTTYPE=text/html:<span style="font-size:20px\;"><span style="font-family:tahoma\;">Acomp&aacute\;&ntilde\;enos v&iacute\;a Zoom/FB Live a conocer la informaci&oacute\;n para aplicar a la Green Card a trav&eacute\;s de Empleo.&nbsp\;<br />\n<br />\nSi usted tiene un TPS\, una aplicaci&oacute\;n de Asilo pendiente\, o DACA\, usted puede aplicar por la Green Card a trav&eacute\;s del empleo.&nbsp\;</span></span><br />\n&nbsp\;\n<h3 class="LC20lb DKV0Md" style="font-size: 20px\; margin: 0px 0px 3px\; padding: 4px 0px 0px\; display: inline-block\; line-height: 1.3\;"><span style="font-size:20px\;"><span style="font-family:tahoma\;"><strong>Matthew Hines</strong><br />\n<em>Due&ntilde\;o de&nbsp\;Law Offices of Matthew C. Hines</em></span></span></h3>\n<br />\n<br />\n<span style="font-size:20px\;"><span style="font-family:tahoma\;"><strong>Mark Yera&nbsp\;</strong></span></span><br />\n<em style="font-family: tahoma\; font-size: 20px\;">Due&ntilde\;o de&nbsp\;Law Offices of Mark Reder Yera&nbsp\;</em><br />\n&nbsp\;
LOCATION:
UID:e.9342.1512
SEQUENCE:3
DTSTAMP:20260424T114722Z
URL:http://georgiahcaga.memberzone.com/events/details/green-card-a-trav&#233;s-de-empleo-1512
END:VEVENT

END:VCALENDAR
