BEGIN:VCALENDAR
VERSION:2.0
PRODID:-//ChamberMaster//Event Calendar 2.0//EN
METHOD:PUBLISH
X-PUBLISHED-TTL:P3D
REFRESH-INTERVAL:P3D
CALSCALE:GREGORIAN
BEGIN:VEVENT
DTSTART:20220825T200000Z
DTEND:20220825T213000Z
X-MICROSOFT-CDO-ALLDAYEVENT:FALSE
SUMMARY:HolderBUILDS/ The Subcontractor Training Series
DESCRIPTION:HolderBuilds is a series of monthly training sessions designed to support\, develop\, and empower small\, minority\, female\, and disadvantaged businesses to elevate their business to the next level.\n\nJoin them in-person for the first session:\n\n"How to do business with Holder"\n\nRegister here\n\nhttp://events.r20.constantcontact.com/register/event?oeidk=a07ejajg18o3e56d448&llr=v54ki9abb
X-ALT-DESC;FMTTYPE=text/html:<div style="clear:both\;"><span style="font-size:22px\;"><span style="font-family:tahoma\;"><span style="color:#000000\;">HolderBuilds is a series of monthly training sessions designed to support\, develop\, and empower small\, minority\, female\, and disadvantaged businesses to elevate their business to the next level.<br />\n<em>Join them in-person for the first session:</em><br />\n<strong>&quot\;How to do business with Holder&quot\;</strong><br />\nRegister here</span><br />\n<a href="http://events.r20.constantcontact.com/register/event?oeidk=a07ejajg18o3e56d448&amp\;llr=v54ki9abb"><span style="color:#0000CD\;">http://events.r20.constantcontact.com/register/event?oeidk=a07ejajg18o3e56d448&amp\;llr=v54ki9abb</span></a></span></span><br />\n&nbsp\;</div>\n
LOCATION:
UID:e.9342.1681
SEQUENCE:3
DTSTAMP:20260421T230213Z
URL:http://georgiahcaga.memberzone.com/events/details/holderbuilds-the-subcontractor-training-series-1681
END:VEVENT

END:VCALENDAR
