BEGIN:VCALENDAR
VERSION:2.0
PRODID:-//ChamberMaster//Event Calendar 2.0//EN
METHOD:PUBLISH
X-PUBLISHED-TTL:P3D
REFRESH-INTERVAL:P3D
CALSCALE:GREGORIAN
BEGIN:VEVENT
DTSTART:20200428T203000Z
DTEND:20200428T220000Z
X-MICROSOFT-CDO-ALLDAYEVENT:FALSE
SUMMARY:How can your business save money NOW in the commercial insurance world?
DESCRIPTION:What is the secret behind the commercial insurance world in order to improve your bottom line? \n\n\n\nHow can your business save money NOW as a way to make it through a low business period?\n\n \n\nWe will keep it simple and answer the following two questions that will make an immediate positive impact on your business (and will impact your business for years to come):\n\n\n\n1. What is the best way to save money on my insurance cost- Worker's Comp\, General Liability\, Commercial Auto\, Bonding etc.?\n\n \n\n2. What questions and strategies can you utilize and implement with your current insurance company to lower your premium NOW? \n\n \n\nYou do not want to miss these secrets!
X-ALT-DESC;FMTTYPE=text/html:<span style="font-size:20px\;"><span style="font-family:tahoma\;">What is the secret behind the commercial insurance world in order to improve your bottom line?&nbsp\;<br />\n<br />\nHow can your business save money NOW as a way to make it through a low business period?<br />\n&nbsp\;<br />\nWe will keep it simple and answer the following two questions that will make an immediate positive impact on your business (and will impact your business for years to come):<br />\n<br />\n1. What is the best way to save money on my insurance cost- Worker&rsquo\;s Comp\, General Liability\, Commercial Auto\, Bonding etc.?<br />\n&nbsp\;<br />\n2. What questions and strategies can you utilize and implement with your current insurance company to lower your premium NOW?&nbsp\;<br />\n&nbsp\;<br />\nYou do not want to miss these secrets!</span></span>
LOCATION:ONLINE SESSION How can your business save money NOW! with Walker Clark and Country Financial Tue\, Apr 28\, 2020 4:30 PM - 5:30 PM (EDT) Please join my meeting from your computer\, tablet or smartphone. https://global.gotomeeting.com/join/986403477 You can also dial in using your phone. (For supported devices\, tap a one-touch number below to join instantly.) United States: +1 (872) 240-3311 - One-touch: tel:+18722403311\,\,986403477# Access Code: 986-403-477 New to GoToMeeting? Get the app now and be ready when your first meeting starts: https://global.gotomeeting.com/install/986403477
UID:e.9342.1507
SEQUENCE:3
DTSTAMP:20260424T163043Z
URL:http://georgiahcaga.memberzone.com/events/details/how-can-your-business-save-money-now-in-the-commercial-insurance-world-1507
END:VEVENT

END:VCALENDAR
