BEGIN:VCALENDAR
VERSION:2.0
PRODID:-//ChamberMaster//Event Calendar 2.0//EN
METHOD:PUBLISH
X-PUBLISHED-TTL:P3D
REFRESH-INTERVAL:P3D
CALSCALE:GREGORIAN
BEGIN:VEVENT
DTSTART:20200324T200000Z
DTEND:20200324T210000Z
X-MICROSOFT-CDO-ALLDAYEVENT:FALSE
SUMMARY:How do employment laws and unemployment insurance apply during the COVID-19 crisis?
DESCRIPTION:Our partners of the Georgia Hispanic Chamber of Commerce will conduct today an important webinar and Q&A about "How do employment laws and unemployment insurance apply during the COVID-19 crisis?" with Glianny Fagundo.\n\n\n\nWe invite you to participate to have current and useful information.
X-ALT-DESC;FMTTYPE=text/html:<span style="color:rgb(34\, 34\, 34)\; font-family:arial\; font-size:16px"><span style="color:rgb(28\, 30\, 33)\; font-family:system-ui\,-apple-system\,blinkmacsystemfont\,.sfnstext-regular\,sans-serif">Our partners of the&nbsp\;</span><a href="https://ghcc.org/" style="color: rgb(17\, 85\, 204)\;" target="_blank">Georgia Hispanic Chamber of Commerce</a></span><span style="color:rgb(34\, 34\, 34)\; font-family:arial\; font-size:13.333333015441895px">&nbsp\;</span><span style="color:rgb(34\, 34\, 34)\; font-family:arial\; font-size:16px"><span style="color:rgb(28\, 30\, 33)\; font-family:system-ui\,-apple-system\,blinkmacsystemfont\,.sfnstext-regular\,sans-serif">will conduct today an important webinar and Q&amp\;A about &quot\;How do employment laws and unemployment insurance apply during the COVID-19 crisis?&rdquo\; with Glianny Fagundo.</span><br />\n<br />\n<span style="color:rgb(28\, 30\, 33)\; font-family:system-ui\,-apple-system\,blinkmacsystemfont\,.sfnstext-regular\,sans-serif">We invite you to participate to have current and useful information.&nbsp\;</span></span>
LOCATION:WEBINAR Employment Laws During the COVID-19 Crisis Webinar
UID:e.9342.1503
SEQUENCE:3
DTSTAMP:20260424T190634Z
URL:http://georgiahcaga.memberzone.com/events/details/how-do-employment-laws-and-unemployment-insurance-apply-during-the-covid-19-crisis-1503
END:VEVENT

END:VCALENDAR
