BEGIN:VCALENDAR
VERSION:2.0
PRODID:-//ChamberMaster//Event Calendar 2.0//EN
METHOD:PUBLISH
X-PUBLISHED-TTL:P3D
REFRESH-INTERVAL:P3D
CALSCALE:GREGORIAN
BEGIN:VEVENT
DTSTART:20231025T213000Z
DTEND:20231025T233000Z
X-MICROSOFT-CDO-ALLDAYEVENT:FALSE
SUMMARY:How to do Business Series / Atlanta Housing Authority
DESCRIPTION:Are you ready for How to do Business with Atlanta Housing Authority? This will be the perfect space for subcontractors and general contractors who are active members of the GHCA community\, to learn first-hand about the pre-selection processes used by Atlanta Housing Authority to develop its construction projects and to meet those who are responsible for evaluating and selecting candidates.\n\n \n\nDo not miss the opportunity\, register as soon as possible\, to guarantee that you will be one of those who are there. \n\n \n\nPlease contact Claudia Arellano for registration at carellano@georgiahca.org or (404)229.8070. \n\n \n\nNot sure about your membership status? She will help you with any related questions.
X-ALT-DESC;FMTTYPE=text/html:<span style="font-size:22px\;"><span style="font-family:tahoma\;"><font color="#000000">Are you ready for&nbsp\;</font><em style=""><b style="color: black\; font-family: tahoma\, sans-serif\; font-size: 16.5pt\;">How to do Business with Atlanta </b><font color="#000000"><b>Housing</b></font><b style="color: black\; font-family: tahoma\, sans-serif\; font-size: 16.5pt\;">&nbsp\;Authority? </b></em><font color="#000000">This will be the perfect </font><span style="text-align: justify\; white-space-collapse: preserve\; color: rgb(0\, 0\, 0)\;">space for subcontractors and general contractors who are </span><span style="text-align: justify\; white-space-collapse: preserve\; color: rgb(0\, 0\, 0)\; font-weight: bold\;">active </span><span style="text-align: justify\; white-space-collapse: preserve\; color: rgb(0\, 0\, 0)\;">members of the&nbsp\;GHCA&nbsp\;community\, to learn first-hand about the pre-selection processes used by </span><em><b style="color: black\; font-family: tahoma\, sans-serif\; font-size: 16.5pt\;">Atlanta&nbsp\;</b><font color="#000000"><b>Housing</b></font><b style="color: black\; font-family: tahoma\, sans-serif\; font-size: 16.5pt\;">&nbsp\;Authority</b></em><span style="text-align: justify\; white-space-collapse: preserve\; color: rgb(0\, 0\, 0)\;"> to develop its construction projects and to meet those who are responsible for evaluating and selecting candidates.</span><br />\n&nbsp\;<br />\n<span style="color:black\;">Do not miss the opportunity\, register as soon as possible\, to guarantee that you will be one of those who are there.&nbsp\;</span><br />\n&nbsp\;<br />\n<span style="color:black\;">Please contact <strong>Claudia Arellano</strong> for registration at carellano@georgiahca.org or (404)229.8070.&nbsp\;</span><br />\n&nbsp\;<br />\n<span style="color:black\;">Not sure about your membership status? She will help you with any related questions.&nbsp\;</span><br />\n&nbsp\;</span></span>
LOCATION:Details provided upon registration.
UID:e.9342.1760
SEQUENCE:3
DTSTAMP:20260420T143052Z
URL:http://georgiahcaga.memberzone.com/events/details/how-to-do-business-series-atlanta-housing-authority-1760
END:VEVENT

END:VCALENDAR
