BEGIN:VCALENDAR
VERSION:2.0
PRODID:-//ChamberMaster//Event Calendar 2.0//EN
METHOD:PUBLISH
X-PUBLISHED-TTL:P3D
REFRESH-INTERVAL:P3D
CALSCALE:GREGORIAN
BEGIN:VEVENT
DTSTART:20240627T213000Z
DTEND:20240627T233000Z
X-MICROSOFT-CDO-ALLDAYEVENT:FALSE
SUMMARY:How to do Business Series / Brasfield & Gorrie
DESCRIPTION:About the Event:\n\nCome and join the Brasfield & Gorrie team to learn about their company\, upcoming projects\, and pre-qualification requirements. This is a unique opportunity to connect with their procurement and project management teams\, allowing your company to explore new business opportunities.\n\nWhat You Will Gain:\n\n\n	Company Insights: Understand Brasfield & Gorrie's mission\, values\, and future projects.\n	Networking Opportunities: Connect directly with key members of their procurement and project management teams.\n	Pre-Qualification Information: Learn about the pre-qualification process and what it takes to become a trusted partner.\n	Business Growth: Discover how to grow your business and access new markets with Brasfield & Gorrie.\n\n\nIf you are looking to expand your business and explore new opportunities\, this session is for you. Don't miss out on this chance to engage with one of the industry's leading construction firms
X-ALT-DESC;FMTTYPE=text/html:<p style="border: 0px solid rgb(227\, 227\, 227)\; box-sizing: border-box\; --tw-border-spacing-x: 0\; --tw-border-spacing-y: 0\; --tw-translate-x: 0\; --tw-translate-y: 0\; --tw-rotate: 0\; --tw-skew-x: 0\; --tw-skew-y: 0\; --tw-scale-x: 1\; --tw-scale-y: 1\; --tw-pan-x: \; --tw-pan-y: \; --tw-pinch-zoom: \; --tw-scroll-snap-strictness: proximity\; --tw-gradient-from-position: \; --tw-gradient-via-position: \; --tw-gradient-to-position: \; --tw-ordinal: \; --tw-slashed-zero: \; --tw-numeric-figure: \; --tw-numeric-spacing: \; --tw-numeric-fraction: \; --tw-ring-inset: \; --tw-ring-offset-width: 0px\; --tw-ring-offset-color: #fff\; --tw-ring-color: rgba(69\,89\,164\,.5)\; --tw-ring-offset-shadow: 0 0 transparent\; --tw-ring-shadow: 0 0 transparent\; --tw-shadow: 0 0 transparent\; --tw-shadow-colored: 0 0 transparent\; --tw-blur: \; --tw-brightness: \; --tw-contrast: \; --tw-grayscale: \; --tw-hue-rotate: \; --tw-invert: \; --tw-saturate: \; --tw-sepia: \; --tw-drop-shadow: \; --tw-backdrop-blur: \; --tw-backdrop-brightness: \; --tw-backdrop-contrast: \; --tw-backdrop-grayscale: \; --tw-backdrop-hue-rotate: \; --tw-backdrop-invert: \; --tw-backdrop-opacity: \; --tw-backdrop-saturate: \; --tw-backdrop-sepia: \; --tw-contain-size: \; --tw-contain-layout: \; --tw-contain-paint: \; --tw-contain-style: \; margin: 1.25em 0px\; color: rgb(13\, 13\, 13)\; font-family: ui-sans-serif\, -apple-system\, system-ui\, &quot\;Segoe UI&quot\;\, Roboto\, Ubuntu\, Cantarell\, &quot\;Noto Sans&quot\;\, sans-serif\, Helvetica\, &quot\;Apple Color Emoji&quot\;\, Arial\, &quot\;Segoe UI Emoji&quot\;\, &quot\;Segoe UI Symbol&quot\;\; font-size: 16px\; white-space-collapse: preserve\;"><span style="font-size:16px\;"><span style="font-family:tahoma\;"><span style="border: 0px solid rgb(227\, 227\, 227)\; box-sizing: border-box\; --tw-border-spacing-x: 0\; --tw-border-spacing-y: 0\; --tw-translate-x: 0\; --tw-translate-y: 0\; --tw-rotate: 0\; --tw-skew-x: 0\; --tw-skew-y: 0\; --tw-scale-x: 1\; --tw-scale-y: 1\; --tw-pan-x: \; --tw-pan-y: \; --tw-pinch-zoom: \; --tw-scroll-snap-strictness: proximity\; --tw-gradient-from-position: \; --tw-gradient-via-position: \; --tw-gradient-to-position: \; --tw-ordinal: \; --tw-slashed-zero: \; --tw-numeric-figure: \; --tw-numeric-spacing: \; --tw-numeric-fraction: \; --tw-ring-inset: \; --tw-ring-offset-width: 0px\; --tw-ring-offset-color: #fff\; --tw-ring-color: rgba(69\,89\,164\,.5)\; --tw-ring-offset-shadow: 0 0 transparent\; --tw-ring-shadow: 0 0 transparent\; --tw-shadow: 0 0 transparent\; --tw-shadow-colored: 0 0 transparent\; --tw-blur: \; --tw-brightness: \; --tw-contrast: \; --tw-grayscale: \; --tw-hue-rotate: \; --tw-invert: \; --tw-saturate: \; --tw-sepia: \; --tw-drop-shadow: \; --tw-backdrop-blur: \; --tw-backdrop-brightness: \; --tw-backdrop-contrast: \; --tw-backdrop-grayscale: \; --tw-backdrop-hue-rotate: \; --tw-backdrop-invert: \; --tw-backdrop-opacity: \; --tw-backdrop-saturate: \; --tw-backdrop-sepia: \; --tw-contain-size: \; --tw-contain-layout: \; --tw-contain-paint: \; --tw-contain-style: \; font-weight: 600\; color: var(--tw-prose-bold)\;">About the Event:</span></span></span></p>\n\n<p style="border: 0px solid rgb(227\, 227\, 227)\; box-sizing: border-box\; --tw-border-spacing-x: 0\; --tw-border-spacing-y: 0\; --tw-translate-x: 0\; --tw-translate-y: 0\; --tw-rotate: 0\; --tw-skew-x: 0\; --tw-skew-y: 0\; --tw-scale-x: 1\; --tw-scale-y: 1\; --tw-pan-x: \; --tw-pan-y: \; --tw-pinch-zoom: \; --tw-scroll-snap-strictness: proximity\; --tw-gradient-from-position: \; --tw-gradient-via-position: \; --tw-gradient-to-position: \; --tw-ordinal: \; --tw-slashed-zero: \; --tw-numeric-figure: \; --tw-numeric-spacing: \; --tw-numeric-fraction: \; --tw-ring-inset: \; --tw-ring-offset-width: 0px\; --tw-ring-offset-color: #fff\; --tw-ring-color: rgba(69\,89\,164\,.5)\; --tw-ring-offset-shadow: 0 0 transparent\; --tw-ring-shadow: 0 0 transparent\; --tw-shadow: 0 0 transparent\; --tw-shadow-colored: 0 0 transparent\; --tw-blur: \; --tw-brightness: \; --tw-contrast: \; --tw-grayscale: \; --tw-hue-rotate: \; --tw-invert: \; --tw-saturate: \; --tw-sepia: \; --tw-drop-shadow: \; --tw-backdrop-blur: \; --tw-backdrop-brightness: \; --tw-backdrop-contrast: \; --tw-backdrop-grayscale: \; --tw-backdrop-hue-rotate: \; --tw-backdrop-invert: \; --tw-backdrop-opacity: \; --tw-backdrop-saturate: \; --tw-backdrop-sepia: \; --tw-contain-size: \; --tw-contain-layout: \; --tw-contain-paint: \; --tw-contain-style: \; margin: 1.25em 0px\; color: rgb(13\, 13\, 13)\; font-family: ui-sans-serif\, -apple-system\, system-ui\, &quot\;Segoe UI&quot\;\, Roboto\, Ubuntu\, Cantarell\, &quot\;Noto Sans&quot\;\, sans-serif\, Helvetica\, &quot\;Apple Color Emoji&quot\;\, Arial\, &quot\;Segoe UI Emoji&quot\;\, &quot\;Segoe UI Symbol&quot\;\; font-size: 16px\; white-space-collapse: preserve\;"><span style="font-size:16px\;"><span style="font-family:tahoma\;">Come and join the Brasfield &amp\; Gorrie team to learn about their company\, upcoming projects\, and pre-qualification requirements. This is a unique opportunity to connect with their procurement and project management teams\, allowing your company to explore new business opportunities.</span></span></p>\n\n<p style="border: 0px solid rgb(227\, 227\, 227)\; box-sizing: border-box\; --tw-border-spacing-x: 0\; --tw-border-spacing-y: 0\; --tw-translate-x: 0\; --tw-translate-y: 0\; --tw-rotate: 0\; --tw-skew-x: 0\; --tw-skew-y: 0\; --tw-scale-x: 1\; --tw-scale-y: 1\; --tw-pan-x: \; --tw-pan-y: \; --tw-pinch-zoom: \; --tw-scroll-snap-strictness: proximity\; --tw-gradient-from-position: \; --tw-gradient-via-position: \; --tw-gradient-to-position: \; --tw-ordinal: \; --tw-slashed-zero: \; --tw-numeric-figure: \; --tw-numeric-spacing: \; --tw-numeric-fraction: \; --tw-ring-inset: \; --tw-ring-offset-width: 0px\; --tw-ring-offset-color: #fff\; --tw-ring-color: rgba(69\,89\,164\,.5)\; --tw-ring-offset-shadow: 0 0 transparent\; --tw-ring-shadow: 0 0 transparent\; --tw-shadow: 0 0 transparent\; --tw-shadow-colored: 0 0 transparent\; --tw-blur: \; --tw-brightness: \; --tw-contrast: \; --tw-grayscale: \; --tw-hue-rotate: \; --tw-invert: \; --tw-saturate: \; --tw-sepia: \; --tw-drop-shadow: \; --tw-backdrop-blur: \; --tw-backdrop-brightness: \; --tw-backdrop-contrast: \; --tw-backdrop-grayscale: \; --tw-backdrop-hue-rotate: \; --tw-backdrop-invert: \; --tw-backdrop-opacity: \; --tw-backdrop-saturate: \; --tw-backdrop-sepia: \; --tw-contain-size: \; --tw-contain-layout: \; --tw-contain-paint: \; --tw-contain-style: \; margin: 1.25em 0px\; color: rgb(13\, 13\, 13)\; font-family: ui-sans-serif\, -apple-system\, system-ui\, &quot\;Segoe UI&quot\;\, Roboto\, Ubuntu\, Cantarell\, &quot\;Noto Sans&quot\;\, sans-serif\, Helvetica\, &quot\;Apple Color Emoji&quot\;\, Arial\, &quot\;Segoe UI Emoji&quot\;\, &quot\;Segoe UI Symbol&quot\;\; font-size: 16px\; white-space-collapse: preserve\;"><span style="font-size:16px\;"><span style="font-family:tahoma\;"><span style="border: 0px solid rgb(227\, 227\, 227)\; box-sizing: border-box\; --tw-border-spacing-x: 0\; --tw-border-spacing-y: 0\; --tw-translate-x: 0\; --tw-translate-y: 0\; --tw-rotate: 0\; --tw-skew-x: 0\; --tw-skew-y: 0\; --tw-scale-x: 1\; --tw-scale-y: 1\; --tw-pan-x: \; --tw-pan-y: \; --tw-pinch-zoom: \; --tw-scroll-snap-strictness: proximity\; --tw-gradient-from-position: \; --tw-gradient-via-position: \; --tw-gradient-to-position: \; --tw-ordinal: \; --tw-slashed-zero: \; --tw-numeric-figure: \; --tw-numeric-spacing: \; --tw-numeric-fraction: \; --tw-ring-inset: \; --tw-ring-offset-width: 0px\; --tw-ring-offset-color: #fff\; --tw-ring-color: rgba(69\,89\,164\,.5)\; --tw-ring-offset-shadow: 0 0 transparent\; --tw-ring-shadow: 0 0 transparent\; --tw-shadow: 0 0 transparent\; --tw-shadow-colored: 0 0 transparent\; --tw-blur: \; --tw-brightness: \; --tw-contrast: \; --tw-grayscale: \; --tw-hue-rotate: \; --tw-invert: \; --tw-saturate: \; --tw-sepia: \; --tw-drop-shadow: \; --tw-backdrop-blur: \; --tw-backdrop-brightness: \; --tw-backdrop-contrast: \; --tw-backdrop-grayscale: \; --tw-backdrop-hue-rotate: \; --tw-backdrop-invert: \; --tw-backdrop-opacity: \; --tw-backdrop-saturate: \; --tw-backdrop-sepia: \; --tw-contain-size: \; --tw-contain-layout: \; --tw-contain-paint: \; --tw-contain-style: \; font-weight: 600\; color: var(--tw-prose-bold)\;">What You Will Gain:</span></span></span></p>\n\n<ul style="border: 0px solid rgb(227\, 227\, 227)\; box-sizing: border-box\; --tw-border-spacing-x: 0\; --tw-border-spacing-y: 0\; --tw-translate-x: 0\; --tw-translate-y: 0\; --tw-rotate: 0\; --tw-skew-x: 0\; --tw-skew-y: 0\; --tw-scale-x: 1\; --tw-scale-y: 1\; --tw-pan-x: \; --tw-pan-y: \; --tw-pinch-zoom: \; --tw-scroll-snap-strictness: proximity\; --tw-gradient-from-position: \; --tw-gradient-via-position: \; --tw-gradient-to-position: \; --tw-ordinal: \; --tw-slashed-zero: \; --tw-numeric-figure: \; --tw-numeric-spacing: \; --tw-numeric-fraction: \; --tw-ring-inset: \; --tw-ring-offset-width: 0px\; --tw-ring-offset-color: #fff\; --tw-ring-color: rgba(69\,89\,164\,.5)\; --tw-ring-offset-shadow: 0 0 transparent\; --tw-ring-shadow: 0 0 transparent\; --tw-shadow: 0 0 transparent\; --tw-shadow-colored: 0 0 transparent\; --tw-blur: \; --tw-brightness: \; --tw-contrast: \; --tw-grayscale: \; --tw-hue-rotate: \; --tw-invert: \; --tw-saturate: \; --tw-sepia: \; --tw-drop-shadow: \; --tw-backdrop-blur: \; --tw-backdrop-brightness: \; --tw-backdrop-contrast: \; --tw-backdrop-grayscale: \; --tw-backdrop-hue-rotate: \; --tw-backdrop-invert: \; --tw-backdrop-opacity: \; --tw-backdrop-saturate: \; --tw-backdrop-sepia: \; --tw-contain-size: \; --tw-contain-layout: \; --tw-contain-paint: \; --tw-contain-style: \; list-style-position: initial\; list-style-image: initial\; margin: 1.25em 0px\; padding-right: 0px\; padding-left: 1.625em\; color: rgb(13\, 13\, 13)\; font-family: ui-sans-serif\, -apple-system\, system-ui\, &quot\;Segoe UI&quot\;\, Roboto\, Ubuntu\, Cantarell\, &quot\;Noto Sans&quot\;\, sans-serif\, Helvetica\, &quot\;Apple Color Emoji&quot\;\, Arial\, &quot\;Segoe UI Emoji&quot\;\, &quot\;Segoe UI Symbol&quot\;\; font-size: 16px\; white-space-collapse: preserve\;">\n	<li style="border: 0px solid rgb(227\, 227\, 227)\; box-sizing: border-box\; --tw-border-spacing-x: 0\; --tw-border-spacing-y: 0\; --tw-translate-x: 0\; --tw-translate-y: 0\; --tw-rotate: 0\; --tw-skew-x: 0\; --tw-skew-y: 0\; --tw-scale-x: 1\; --tw-scale-y: 1\; --tw-pan-x: \; --tw-pan-y: \; --tw-pinch-zoom: \; --tw-scroll-snap-strictness: proximity\; --tw-gradient-from-position: \; --tw-gradient-via-position: \; --tw-gradient-to-position: \; --tw-ordinal: \; --tw-slashed-zero: \; --tw-numeric-figure: \; --tw-numeric-spacing: \; --tw-numeric-fraction: \; --tw-ring-inset: \; --tw-ring-offset-width: 0px\; --tw-ring-offset-color: #fff\; --tw-ring-color: rgba(69\,89\,164\,.5)\; --tw-ring-offset-shadow: 0 0 transparent\; --tw-ring-shadow: 0 0 transparent\; --tw-shadow: 0 0 transparent\; --tw-shadow-colored: 0 0 transparent\; --tw-blur: \; --tw-brightness: \; --tw-contrast: \; --tw-grayscale: \; --tw-hue-rotate: \; --tw-invert: \; --tw-saturate: \; --tw-sepia: \; --tw-drop-shadow: \; --tw-backdrop-blur: \; --tw-backdrop-brightness: \; --tw-backdrop-contrast: \; --tw-backdrop-grayscale: \; --tw-backdrop-hue-rotate: \; --tw-backdrop-invert: \; --tw-backdrop-opacity: \; --tw-backdrop-saturate: \; --tw-backdrop-sepia: \; --tw-contain-size: \; --tw-contain-layout: \; --tw-contain-paint: \; --tw-contain-style: \; margin-bottom: 0.5em\; margin-top: 0.5em\; padding-left: 0.375em\;"><span style="font-size:16px\;"><span style="font-family:tahoma\;"><span style="border: 0px solid rgb(227\, 227\, 227)\; box-sizing: border-box\; --tw-border-spacing-x: 0\; --tw-border-spacing-y: 0\; --tw-translate-x: 0\; --tw-translate-y: 0\; --tw-rotate: 0\; --tw-skew-x: 0\; --tw-skew-y: 0\; --tw-scale-x: 1\; --tw-scale-y: 1\; --tw-pan-x: \; --tw-pan-y: \; --tw-pinch-zoom: \; --tw-scroll-snap-strictness: proximity\; --tw-gradient-from-position: \; --tw-gradient-via-position: \; --tw-gradient-to-position: \; --tw-ordinal: \; --tw-slashed-zero: \; --tw-numeric-figure: \; --tw-numeric-spacing: \; --tw-numeric-fraction: \; --tw-ring-inset: \; --tw-ring-offset-width: 0px\; --tw-ring-offset-color: #fff\; --tw-ring-color: rgba(69\,89\,164\,.5)\; --tw-ring-offset-shadow: 0 0 transparent\; --tw-ring-shadow: 0 0 transparent\; --tw-shadow: 0 0 transparent\; --tw-shadow-colored: 0 0 transparent\; --tw-blur: \; --tw-brightness: \; --tw-contrast: \; --tw-grayscale: \; --tw-hue-rotate: \; --tw-invert: \; --tw-saturate: \; --tw-sepia: \; --tw-drop-shadow: \; --tw-backdrop-blur: \; --tw-backdrop-brightness: \; --tw-backdrop-contrast: \; --tw-backdrop-grayscale: \; --tw-backdrop-hue-rotate: \; --tw-backdrop-invert: \; --tw-backdrop-opacity: \; --tw-backdrop-saturate: \; --tw-backdrop-sepia: \; --tw-contain-size: \; --tw-contain-layout: \; --tw-contain-paint: \; --tw-contain-style: \; font-weight: 600\; color: var(--tw-prose-bold)\; margin-top: 1.25em\; margin-bottom: 1.25em\;">Company Insights:</span> Understand Brasfield &amp\; Gorrie&#39\;s mission\, values\, and future projects.</span></span></li>\n	<li style="border: 0px solid rgb(227\, 227\, 227)\; box-sizing: border-box\; --tw-border-spacing-x: 0\; --tw-border-spacing-y: 0\; --tw-translate-x: 0\; --tw-translate-y: 0\; --tw-rotate: 0\; --tw-skew-x: 0\; --tw-skew-y: 0\; --tw-scale-x: 1\; --tw-scale-y: 1\; --tw-pan-x: \; --tw-pan-y: \; --tw-pinch-zoom: \; --tw-scroll-snap-strictness: proximity\; --tw-gradient-from-position: \; --tw-gradient-via-position: \; --tw-gradient-to-position: \; --tw-ordinal: \; --tw-slashed-zero: \; --tw-numeric-figure: \; --tw-numeric-spacing: \; --tw-numeric-fraction: \; --tw-ring-inset: \; --tw-ring-offset-width: 0px\; --tw-ring-offset-color: #fff\; --tw-ring-color: rgba(69\,89\,164\,.5)\; --tw-ring-offset-shadow: 0 0 transparent\; --tw-ring-shadow: 0 0 transparent\; --tw-shadow: 0 0 transparent\; --tw-shadow-colored: 0 0 transparent\; --tw-blur: \; --tw-brightness: \; --tw-contrast: \; --tw-grayscale: \; --tw-hue-rotate: \; --tw-invert: \; --tw-saturate: \; --tw-sepia: \; --tw-drop-shadow: \; --tw-backdrop-blur: \; --tw-backdrop-brightness: \; --tw-backdrop-contrast: \; --tw-backdrop-grayscale: \; --tw-backdrop-hue-rotate: \; --tw-backdrop-invert: \; --tw-backdrop-opacity: \; --tw-backdrop-saturate: \; --tw-backdrop-sepia: \; --tw-contain-size: \; --tw-contain-layout: \; --tw-contain-paint: \; --tw-contain-style: \; margin-bottom: 0.5em\; margin-top: 0.5em\; padding-left: 0.375em\;"><span style="font-size:16px\;"><span style="font-family:tahoma\;"><span style="border: 0px solid rgb(227\, 227\, 227)\; box-sizing: border-box\; --tw-border-spacing-x: 0\; --tw-border-spacing-y: 0\; --tw-translate-x: 0\; --tw-translate-y: 0\; --tw-rotate: 0\; --tw-skew-x: 0\; --tw-skew-y: 0\; --tw-scale-x: 1\; --tw-scale-y: 1\; --tw-pan-x: \; --tw-pan-y: \; --tw-pinch-zoom: \; --tw-scroll-snap-strictness: proximity\; --tw-gradient-from-position: \; --tw-gradient-via-position: \; --tw-gradient-to-position: \; --tw-ordinal: \; --tw-slashed-zero: \; --tw-numeric-figure: \; --tw-numeric-spacing: \; --tw-numeric-fraction: \; --tw-ring-inset: \; --tw-ring-offset-width: 0px\; --tw-ring-offset-color: #fff\; --tw-ring-color: rgba(69\,89\,164\,.5)\; --tw-ring-offset-shadow: 0 0 transparent\; --tw-ring-shadow: 0 0 transparent\; --tw-shadow: 0 0 transparent\; --tw-shadow-colored: 0 0 transparent\; --tw-blur: \; --tw-brightness: \; --tw-contrast: \; --tw-grayscale: \; --tw-hue-rotate: \; --tw-invert: \; --tw-saturate: \; --tw-sepia: \; --tw-drop-shadow: \; --tw-backdrop-blur: \; --tw-backdrop-brightness: \; --tw-backdrop-contrast: \; --tw-backdrop-grayscale: \; --tw-backdrop-hue-rotate: \; --tw-backdrop-invert: \; --tw-backdrop-opacity: \; --tw-backdrop-saturate: \; --tw-backdrop-sepia: \; --tw-contain-size: \; --tw-contain-layout: \; --tw-contain-paint: \; --tw-contain-style: \; font-weight: 600\; color: var(--tw-prose-bold)\; margin-top: 1.25em\; margin-bottom: 1.25em\;">Networking Opportunities:</span> Connect directly with key members of their procurement and project management teams.</span></span></li>\n	<li style="border: 0px solid rgb(227\, 227\, 227)\; box-sizing: border-box\; --tw-border-spacing-x: 0\; --tw-border-spacing-y: 0\; --tw-translate-x: 0\; --tw-translate-y: 0\; --tw-rotate: 0\; --tw-skew-x: 0\; --tw-skew-y: 0\; --tw-scale-x: 1\; --tw-scale-y: 1\; --tw-pan-x: \; --tw-pan-y: \; --tw-pinch-zoom: \; --tw-scroll-snap-strictness: proximity\; --tw-gradient-from-position: \; --tw-gradient-via-position: \; --tw-gradient-to-position: \; --tw-ordinal: \; --tw-slashed-zero: \; --tw-numeric-figure: \; --tw-numeric-spacing: \; --tw-numeric-fraction: \; --tw-ring-inset: \; --tw-ring-offset-width: 0px\; --tw-ring-offset-color: #fff\; --tw-ring-color: rgba(69\,89\,164\,.5)\; --tw-ring-offset-shadow: 0 0 transparent\; --tw-ring-shadow: 0 0 transparent\; --tw-shadow: 0 0 transparent\; --tw-shadow-colored: 0 0 transparent\; --tw-blur: \; --tw-brightness: \; --tw-contrast: \; --tw-grayscale: \; --tw-hue-rotate: \; --tw-invert: \; --tw-saturate: \; --tw-sepia: \; --tw-drop-shadow: \; --tw-backdrop-blur: \; --tw-backdrop-brightness: \; --tw-backdrop-contrast: \; --tw-backdrop-grayscale: \; --tw-backdrop-hue-rotate: \; --tw-backdrop-invert: \; --tw-backdrop-opacity: \; --tw-backdrop-saturate: \; --tw-backdrop-sepia: \; --tw-contain-size: \; --tw-contain-layout: \; --tw-contain-paint: \; --tw-contain-style: \; margin-bottom: 0.5em\; margin-top: 0.5em\; padding-left: 0.375em\;"><span style="font-size:16px\;"><span style="font-family:tahoma\;"><span style="border: 0px solid rgb(227\, 227\, 227)\; box-sizing: border-box\; --tw-border-spacing-x: 0\; --tw-border-spacing-y: 0\; --tw-translate-x: 0\; --tw-translate-y: 0\; --tw-rotate: 0\; --tw-skew-x: 0\; --tw-skew-y: 0\; --tw-scale-x: 1\; --tw-scale-y: 1\; --tw-pan-x: \; --tw-pan-y: \; --tw-pinch-zoom: \; --tw-scroll-snap-strictness: proximity\; --tw-gradient-from-position: \; --tw-gradient-via-position: \; --tw-gradient-to-position: \; --tw-ordinal: \; --tw-slashed-zero: \; --tw-numeric-figure: \; --tw-numeric-spacing: \; --tw-numeric-fraction: \; --tw-ring-inset: \; --tw-ring-offset-width: 0px\; --tw-ring-offset-color: #fff\; --tw-ring-color: rgba(69\,89\,164\,.5)\; --tw-ring-offset-shadow: 0 0 transparent\; --tw-ring-shadow: 0 0 transparent\; --tw-shadow: 0 0 transparent\; --tw-shadow-colored: 0 0 transparent\; --tw-blur: \; --tw-brightness: \; --tw-contrast: \; --tw-grayscale: \; --tw-hue-rotate: \; --tw-invert: \; --tw-saturate: \; --tw-sepia: \; --tw-drop-shadow: \; --tw-backdrop-blur: \; --tw-backdrop-brightness: \; --tw-backdrop-contrast: \; --tw-backdrop-grayscale: \; --tw-backdrop-hue-rotate: \; --tw-backdrop-invert: \; --tw-backdrop-opacity: \; --tw-backdrop-saturate: \; --tw-backdrop-sepia: \; --tw-contain-size: \; --tw-contain-layout: \; --tw-contain-paint: \; --tw-contain-style: \; font-weight: 600\; color: var(--tw-prose-bold)\; margin-top: 1.25em\; margin-bottom: 1.25em\;">Pre-Qualification Information:</span> Learn about the pre-qualification process and what it takes to become a trusted partner.</span></span></li>\n	<li style="border: 0px solid rgb(227\, 227\, 227)\; box-sizing: border-box\; --tw-border-spacing-x: 0\; --tw-border-spacing-y: 0\; --tw-translate-x: 0\; --tw-translate-y: 0\; --tw-rotate: 0\; --tw-skew-x: 0\; --tw-skew-y: 0\; --tw-scale-x: 1\; --tw-scale-y: 1\; --tw-pan-x: \; --tw-pan-y: \; --tw-pinch-zoom: \; --tw-scroll-snap-strictness: proximity\; --tw-gradient-from-position: \; --tw-gradient-via-position: \; --tw-gradient-to-position: \; --tw-ordinal: \; --tw-slashed-zero: \; --tw-numeric-figure: \; --tw-numeric-spacing: \; --tw-numeric-fraction: \; --tw-ring-inset: \; --tw-ring-offset-width: 0px\; --tw-ring-offset-color: #fff\; --tw-ring-color: rgba(69\,89\,164\,.5)\; --tw-ring-offset-shadow: 0 0 transparent\; --tw-ring-shadow: 0 0 transparent\; --tw-shadow: 0 0 transparent\; --tw-shadow-colored: 0 0 transparent\; --tw-blur: \; --tw-brightness: \; --tw-contrast: \; --tw-grayscale: \; --tw-hue-rotate: \; --tw-invert: \; --tw-saturate: \; --tw-sepia: \; --tw-drop-shadow: \; --tw-backdrop-blur: \; --tw-backdrop-brightness: \; --tw-backdrop-contrast: \; --tw-backdrop-grayscale: \; --tw-backdrop-hue-rotate: \; --tw-backdrop-invert: \; --tw-backdrop-opacity: \; --tw-backdrop-saturate: \; --tw-backdrop-sepia: \; --tw-contain-size: \; --tw-contain-layout: \; --tw-contain-paint: \; --tw-contain-style: \; margin-bottom: 0.5em\; margin-top: 0.5em\; padding-left: 0.375em\;"><span style="font-size:16px\;"><span style="font-family:tahoma\;"><span style="border: 0px solid rgb(227\, 227\, 227)\; box-sizing: border-box\; --tw-border-spacing-x: 0\; --tw-border-spacing-y: 0\; --tw-translate-x: 0\; --tw-translate-y: 0\; --tw-rotate: 0\; --tw-skew-x: 0\; --tw-skew-y: 0\; --tw-scale-x: 1\; --tw-scale-y: 1\; --tw-pan-x: \; --tw-pan-y: \; --tw-pinch-zoom: \; --tw-scroll-snap-strictness: proximity\; --tw-gradient-from-position: \; --tw-gradient-via-position: \; --tw-gradient-to-position: \; --tw-ordinal: \; --tw-slashed-zero: \; --tw-numeric-figure: \; --tw-numeric-spacing: \; --tw-numeric-fraction: \; --tw-ring-inset: \; --tw-ring-offset-width: 0px\; --tw-ring-offset-color: #fff\; --tw-ring-color: rgba(69\,89\,164\,.5)\; --tw-ring-offset-shadow: 0 0 transparent\; --tw-ring-shadow: 0 0 transparent\; --tw-shadow: 0 0 transparent\; --tw-shadow-colored: 0 0 transparent\; --tw-blur: \; --tw-brightness: \; --tw-contrast: \; --tw-grayscale: \; --tw-hue-rotate: \; --tw-invert: \; --tw-saturate: \; --tw-sepia: \; --tw-drop-shadow: \; --tw-backdrop-blur: \; --tw-backdrop-brightness: \; --tw-backdrop-contrast: \; --tw-backdrop-grayscale: \; --tw-backdrop-hue-rotate: \; --tw-backdrop-invert: \; --tw-backdrop-opacity: \; --tw-backdrop-saturate: \; --tw-backdrop-sepia: \; --tw-contain-size: \; --tw-contain-layout: \; --tw-contain-paint: \; --tw-contain-style: \; font-weight: 600\; color: var(--tw-prose-bold)\; margin-top: 1.25em\; margin-bottom: 1.25em\;">Business Growth:</span> Discover how to grow your business and access new markets with Brasfield &amp\; Gorrie.</span></span></li>\n</ul>\n\n<p style="border: 0px solid rgb(227\, 227\, 227)\; box-sizing: border-box\; --tw-border-spacing-x: 0\; --tw-border-spacing-y: 0\; --tw-translate-x: 0\; --tw-translate-y: 0\; --tw-rotate: 0\; --tw-skew-x: 0\; --tw-skew-y: 0\; --tw-scale-x: 1\; --tw-scale-y: 1\; --tw-pan-x: \; --tw-pan-y: \; --tw-pinch-zoom: \; --tw-scroll-snap-strictness: proximity\; --tw-gradient-from-position: \; --tw-gradient-via-position: \; --tw-gradient-to-position: \; --tw-ordinal: \; --tw-slashed-zero: \; --tw-numeric-figure: \; --tw-numeric-spacing: \; --tw-numeric-fraction: \; --tw-ring-inset: \; --tw-ring-offset-width: 0px\; --tw-ring-offset-color: #fff\; --tw-ring-color: rgba(69\,89\,164\,.5)\; --tw-ring-offset-shadow: 0 0 transparent\; --tw-ring-shadow: 0 0 transparent\; --tw-shadow: 0 0 transparent\; --tw-shadow-colored: 0 0 transparent\; --tw-blur: \; --tw-brightness: \; --tw-contrast: \; --tw-grayscale: \; --tw-hue-rotate: \; --tw-invert: \; --tw-saturate: \; --tw-sepia: \; --tw-drop-shadow: \; --tw-backdrop-blur: \; --tw-backdrop-brightness: \; --tw-backdrop-contrast: \; --tw-backdrop-grayscale: \; --tw-backdrop-hue-rotate: \; --tw-backdrop-invert: \; --tw-backdrop-opacity: \; --tw-backdrop-saturate: \; --tw-backdrop-sepia: \; --tw-contain-size: \; --tw-contain-layout: \; --tw-contain-paint: \; --tw-contain-style: \; margin: 1.25em 0px\; color: rgb(13\, 13\, 13)\; font-family: ui-sans-serif\, -apple-system\, system-ui\, &quot\;Segoe UI&quot\;\, Roboto\, Ubuntu\, Cantarell\, &quot\;Noto Sans&quot\;\, sans-serif\, Helvetica\, &quot\;Apple Color Emoji&quot\;\, Arial\, &quot\;Segoe UI Emoji&quot\;\, &quot\;Segoe UI Symbol&quot\;\; font-size: 16px\; white-space-collapse: preserve\;"><span style="font-size:16px\;"><span style="font-family:tahoma\;">If you are looking to expand your business and explore new opportunities\, this session is for you. Don&rsquo\;t miss out on this chance to engage with one of the industry&rsquo\;s leading construction firms</span></span></p>\n
LOCATION:Brasfield & Gorrie HQ 2999 Circle 75 Parkway Atlanta\, GA\, 30339
UID:e.9342.1799
SEQUENCE:3
DTSTAMP:20260419T224809Z
URL:http://georgiahcaga.memberzone.com/events/details/how-to-do-business-series-brasfield-gorrie-1799
END:VEVENT

END:VCALENDAR
