BEGIN:VCALENDAR
VERSION:2.0
PRODID:-//ChamberMaster//Event Calendar 2.0//EN
METHOD:PUBLISH
X-PUBLISHED-TTL:P3D
REFRESH-INTERVAL:P3D
CALSCALE:GREGORIAN
BEGIN:VEVENT
DTSTART:20220803T200000Z
DTEND:20220803T220000Z
X-MICROSOFT-CDO-ALLDAYEVENT:FALSE
SUMMARY:How to do Business Series / H.J.Russell
DESCRIPTION:We would like you to be part of this: our next session of the How to Do Business Series with H.J. Russell.\n\nThe perfect space for subcontractors and general contractors who are members of the GHCA community to learn first-hand about the pre-selection processes used by this leading construction company in the state of Georgia to develop their construction projects and meet those who are responsible for evaluating and selecting candidates.\n\nThis free activity\, sponsored by: Argos\, JP Morgan Chase\, Rays Stairs and Fulcro is exclusively for active members of the GHCA.\n\nSpace is limited\, as we want to ensure that each of the attendees can have access to detailed information and have the opportunity to talk with the decision makers.\n\nRegister as soon as possible\, to guarantee that you will be one of those who are there.
X-ALT-DESC;FMTTYPE=text/html:<span style="font-size:22px\;"><span style="font-family:tahoma\;"><span style="color:#000000\;">We would like you to be part of this: our next session of the <strong><em>How to Do Business Series</em></strong> with <strong>H.J. Russell</strong>.<br />\nThe perfect space for subcontractors and general contractors who are members of the <strong>GHCA</strong> community to learn first-hand about the pre-selection processes used by this leading construction company in the state of Georgia to develop their construction projects and meet those who are responsible for evaluating and selecting candidates.<br />\nThis free activity\, sponsored by: <strong>Argos\, JP Morgan Chase\, Rays Stairs</strong> and <strong>Fulcro</strong> is exclusively for active members of the <strong>GHCA</strong>.<br />\nSpace is limited\, as we want to ensure that each of the attendees can have access to detailed information and have the opportunity to talk with the decision makers.<br />\nRegister as soon as possible\, to guarantee that you will be one of those who are there. </span></span></span><br />\n&nbsp\;
LOCATION:Location will be provided upon registration
UID:e.9342.1673
SEQUENCE:3
DTSTAMP:20260421T230438Z
URL:http://georgiahcaga.memberzone.com/events/details/how-to-do-business-series-h-j-russell-1673
END:VEVENT

END:VCALENDAR
