BEGIN:VCALENDAR
VERSION:2.0
PRODID:-//ChamberMaster//Event Calendar 2.0//EN
METHOD:PUBLISH
X-PUBLISHED-TTL:P3D
REFRESH-INTERVAL:P3D
CALSCALE:GREGORIAN
BEGIN:VEVENT
DTSTART:20220615T170000Z
DTEND:20220615T180000Z
X-MICROSOFT-CDO-ALLDAYEVENT:FALSE
SUMMARY:How to do Business Series / HOLDER
DESCRIPTION:We are ready to start a new season of the How to Do Business Series\, the perfect space for subcontractors and general contractors who are members of the GHCA community to learn first-hand about the pre-selection processes used by large companies in the state of Georgia to develop their construction projects and those who are responsible for evaluating and selecting candidates.\n\n \n\nThis free activity is exclusively for those subcontractors who are active members of the GHCA. Space is limited\, as we want to ensure that each of the attendees can have access to detailed information and the opportunity to talk with the decision makers. Do not miss the opportunity\, register as soon as possible\, to guarantee that you will be one of those who are there.\n\n \n\nWe will have several events throughout the year thanks to our sponsor's support: Argos\, JP Morgan Chase\, Rays Stairs and Fulcro. \n\n \n\nMark your calendar! Our first meet will be held virtually on June 15 from 1:00 to 2:00 PM by HOLDER. Followed by an in-person session at Brasfield & Gorrie on June 22 at 4:00 PM.\n\n \n\nIf you would like to attend these important meetings that could become an important opportunity for your business growth\, please contact Gabriela Matute at gmatute@georgia.hca.org as soon as possible\, since the registration is limited. \n\n \n\nJoin us\, don t be left behind!
X-ALT-DESC;FMTTYPE=text/html:<div style="color: rgb(46\, 47\, 47)\; font-family: Verdana\, Geneva\, sans-serif\; font-size: 14px\; white-space: pre-wrap\; text-align: justify\;"><span style="font-size: 22px\; color: rgb(0\, 0\, 0)\; font-family: Tahoma\, Geneva\, sans-serif\;">We are ready to start a new season of the </span><span style="font-size: 22px\; color: rgb(0\, 0\, 0)\; font-family: Tahoma\, Geneva\, sans-serif\; font-weight: bold\; font-style: italic\;">How to Do Business Series</span><span style="font-size: 22px\; color: rgb(0\, 0\, 0)\; font-family: Tahoma\, Geneva\, sans-serif\;">\, the perfect space for subcontractors and general contractors who are members of the </span><span style="font-size: 22px\; color: rgb(0\, 0\, 0)\; font-family: Tahoma\, Geneva\, sans-serif\; font-weight: bold\;">GHCA</span><span style="font-size: 22px\; color: rgb(0\, 0\, 0)\; font-family: Tahoma\, Geneva\, sans-serif\;"> community to learn first-hand about the pre-selection processes used by large companies in the state of Georgia to develop their construction projects and those who are responsible for evaluating and selecting candidates.</span></div>\n\n<div style="color: rgb(46\, 47\, 47)\; font-family: Verdana\, Geneva\, sans-serif\; font-size: 14px\; white-space: pre-wrap\; text-align: justify\;">&nbsp\;</div>\n\n<div style="color: rgb(46\, 47\, 47)\; font-family: Verdana\, Geneva\, sans-serif\; font-size: 14px\; white-space: pre-wrap\; text-align: justify\;"><span style="font-size: 22px\; color: rgb(0\, 0\, 0)\; font-family: Tahoma\, Geneva\, sans-serif\;">This free activity is exclusively for those subcontractors who are active members of the </span><span style="font-size: 22px\; color: rgb(0\, 0\, 0)\; font-family: Tahoma\, Geneva\, sans-serif\; font-weight: bold\;">GHCA</span><span style="font-size: 22px\; color: rgb(0\, 0\, 0)\; font-family: Tahoma\, Geneva\, sans-serif\;">. Space is limited\, as we want to ensure that each of the attendees can have access to detailed information and the opportunity to talk with the decision makers. Do not miss the opportunity\, register as soon as possible\, to guarantee that you will be one of those who are there.</span></div>\n\n<div style="color: rgb(46\, 47\, 47)\; font-family: Verdana\, Geneva\, sans-serif\; font-size: 14px\; white-space: pre-wrap\; text-align: justify\;">&nbsp\;</div>\n\n<div style="color: rgb(46\, 47\, 47)\; font-family: Verdana\, Geneva\, sans-serif\; font-size: 14px\; white-space: pre-wrap\; text-align: justify\;"><span style="font-size: 22px\; color: rgb(0\, 0\, 0)\; font-family: Tahoma\, Geneva\, sans-serif\;">We will have several events throughout the year thanks to our sponsor&rsquo\;s support: </span><span style="font-size: 22px\; color: rgb(0\, 0\, 0)\; font-family: Tahoma\, Geneva\, sans-serif\; font-weight: bold\;">Argos\, JP Morgan Chase\, Rays Stairs</span><span style="font-size: 22px\; color: rgb(0\, 0\, 0)\; font-family: Tahoma\, Geneva\, sans-serif\;"> and </span><span style="font-size: 22px\; color: rgb(0\, 0\, 0)\; font-family: Tahoma\, Geneva\, sans-serif\; font-weight: bold\;">Fulcro</span><span style="font-size: 22px\; color: rgb(0\, 0\, 0)\; font-family: Tahoma\, Geneva\, sans-serif\;">. </span></div>\n\n<div style="color: rgb(46\, 47\, 47)\; font-family: Verdana\, Geneva\, sans-serif\; font-size: 14px\; white-space: pre-wrap\; text-align: justify\;">&nbsp\;</div>\n\n<div style="color: rgb(46\, 47\, 47)\; font-family: Verdana\, Geneva\, sans-serif\; font-size: 14px\; white-space: pre-wrap\; text-align: justify\;"><span style="font-size: 22px\; color: rgb(0\, 0\, 0)\; font-family: Tahoma\, Geneva\, sans-serif\;">Mark your calendar! Our first meet will be held virtually on </span><span style="font-size: 22px\; color: rgb(0\, 0\, 0)\; font-family: Tahoma\, Geneva\, sans-serif\; font-weight: bold\;">June 15</span><span style="font-size: 22px\; color: rgb(0\, 0\, 0)\; font-family: Tahoma\, Geneva\, sans-serif\;"> from 1:00 to 2:00 PM by </span><span style="font-size: 22px\; color: rgb(0\, 0\, 0)\; font-family: Tahoma\, Geneva\, sans-serif\; font-weight: bold\;">HOLDER</span><span style="font-size: 22px\; color: rgb(0\, 0\, 0)\; font-family: Tahoma\, Geneva\, sans-serif\;">. Followed by an in-person session at </span><span style="font-size: 22px\; color: rgb(0\, 0\, 0)\; font-family: Tahoma\, Geneva\, sans-serif\; font-weight: bold\;">Brasfield &amp\; Gorrie</span><span style="font-size: 22px\; color: rgb(0\, 0\, 0)\; font-family: Tahoma\, Geneva\, sans-serif\;"> on </span><span style="font-size: 22px\; color: rgb(0\, 0\, 0)\; font-family: Tahoma\, Geneva\, sans-serif\; font-weight: bold\;">June 22</span><span style="font-size: 22px\; color: rgb(0\, 0\, 0)\; font-family: Tahoma\, Geneva\, sans-serif\;"> at </span><span style="font-size: 22px\; color: rgb(0\, 0\, 0)\; font-family: Tahoma\, Geneva\, sans-serif\; font-weight: bold\;">4:00 PM.</span></div>\n\n<div style="color: rgb(46\, 47\, 47)\; font-family: Verdana\, Geneva\, sans-serif\; font-size: 14px\; white-space: pre-wrap\; text-align: justify\;">&nbsp\;</div>\n\n<div style="color: rgb(46\, 47\, 47)\; font-family: Verdana\, Geneva\, sans-serif\; font-size: 14px\; white-space: pre-wrap\; text-align: justify\;"><span style="font-size: 22px\; color: rgb(0\, 0\, 0)\; font-family: Tahoma\, Geneva\, sans-serif\;">If you would like to attend these important meetings that could become an important opportunity for your business growth\, please contact Gabriela Matute at gmatute@georgia.hca.org as soon as possible\, since the registration is limited. </span></div>\n\n<div style="color: rgb(46\, 47\, 47)\; font-family: Verdana\, Geneva\, sans-serif\; font-size: 14px\; white-space: pre-wrap\; text-align: justify\;">&nbsp\;</div>\n\n<div style="color: rgb(46\, 47\, 47)\; font-family: Verdana\, Geneva\, sans-serif\; font-size: 14px\; white-space: pre-wrap\; text-align: justify\;"><span style="font-size: 22px\; color: rgb(0\, 0\, 0)\; font-family: Tahoma\, Geneva\, sans-serif\;">Join us\, don&acute\;t be left behind!</span></div>\n\n<div style="color: rgb(46\, 47\, 47)\; font-family: Verdana\, Geneva\, sans-serif\; font-size: 14px\; white-space: pre-wrap\; text-align: justify\;">&nbsp\;</div>\n\n<div style="color: rgb(46\, 47\, 47)\; font-family: Verdana\, Geneva\, sans-serif\; font-size: 14px\; white-space: pre-wrap\; text-align: justify\;">&nbsp\;</div>\n
LOCATION:Virtual Session Link will be provided after registration
UID:e.9342.1631
SEQUENCE:3
DTSTAMP:20260422T044549Z
URL:http://georgiahcaga.memberzone.com/events/details/how-to-do-business-series-holder-1631
END:VEVENT

END:VCALENDAR
