BEGIN:VCALENDAR
VERSION:2.0
PRODID:-//ChamberMaster//Event Calendar 2.0//EN
METHOD:PUBLISH
X-PUBLISHED-TTL:P3D
REFRESH-INTERVAL:P3D
CALSCALE:GREGORIAN
BEGIN:VEVENT
DTSTART:20240425T213000Z
DTEND:20240425T233000Z
X-MICROSOFT-CDO-ALLDAYEVENT:FALSE
SUMMARY:How to do Business Series / Juneau Construction
DESCRIPTION:We are ready to a new session of the How to do Business Series\, the perfect space for subcontractors and general contractors who are active members of the GHCA community\, to learn first-hand about the pre-selection processes used by large companies in the state of Georgia to develop their construction projects\, and those who are responsible for evaluating and selecting candidates.\n\n \n\nJuneau Construction is inviting you to learn all the opportunities and details that Subcontractors need to partner up in their construction projects.\n\n \n\nDo not miss the opportunity\, contact us to register as soon as possible.
X-ALT-DESC;FMTTYPE=text/html:<p style="margin:0in\;text-align:justify"><span style="font-size:16.5pt\;\nfont-family:&quot\;Tahoma&quot\;\,sans-serif\;color:black">We are ready to a new session of the&nbsp\;<b><i>How to do Business Series</i></b>\, the perfect space for subcontractors and general contractors who are <b>active </b>members of the&nbsp\;GHCA&nbsp\;community\, to learn first-hand about the pre-selection processes used by large companies in the state of Georgia to develop their construction projects\, and those who are responsible for evaluating and selecting candidates.</span><span style="font-size:10.5pt\;font-family:&quot\;Arial&quot\;\,sans-serif\;\ncolor:#36495F"><o:p></o:p></span></p>\n\n<p style="margin:0in\;text-align:justify"><span style="font-size:10.5pt\;\nfont-family:&quot\;Arial&quot\;\,sans-serif\;color:#36495F"><o:p>&nbsp\;</o:p></span></p>\n\n<p style="margin:0in\;text-align:justify"><span style="font-size:16.5pt\;\nfont-family:&quot\;Tahoma&quot\;\,sans-serif\;color:black"><em><strong>Juneau Construction</strong></em><i style="font-weight: bold\;">&nbsp\;</i>is inviting you to learn </span><a href="mailto:ereyes@georgiahca.org" target="_blank"><span style="font-size:\n15.0pt\;font-family:&quot\;Tahoma&quot\;\,sans-serif\;color:black">all the opportunities and details that Subcontractors need to partner up in their construction projects.</span></a><span style="font-size:10.5pt\;font-family:&quot\;Arial&quot\;\,sans-serif\;color:#36495F"><o:p></o:p></span></p>\n\n<p style="margin:0in\;text-align:justify"><span style="font-size:10.5pt\;\nfont-family:&quot\;Arial&quot\;\,sans-serif\;color:#36495F"><o:p>&nbsp\;</o:p></span></p>\n\n<p style="margin:0in\;text-align:justify"><span style="font-size:16.5pt\;\nfont-family:&quot\;Tahoma&quot\;\,sans-serif\;color:black">Do not miss the opportunity\, contact us to register as soon as possible.</span><span style="font-size:10.5pt\;font-family:&quot\;Arial&quot\;\,sans-serif\;\ncolor:#36495F"><o:p></o:p></span></p>\n
LOCATION:
UID:e.9342.1807
SEQUENCE:3
DTSTAMP:20260420T023114Z
URL:http://georgiahcaga.memberzone.com/events/details/how-to-do-business-series-juneau-construction-1807
END:VEVENT

END:VCALENDAR
