BEGIN:VCALENDAR
VERSION:2.0
PRODID:-//ChamberMaster//Event Calendar 2.0//EN
METHOD:PUBLISH
X-PUBLISHED-TTL:P3D
REFRESH-INTERVAL:P3D
CALSCALE:GREGORIAN
BEGIN:VEVENT
DTSTART:20230322T213000Z
DTEND:20230322T233000Z
X-MICROSOFT-CDO-ALLDAYEVENT:FALSE
SUMMARY:How to do Business Series /MARTA
DESCRIPTION:We are ready to start a new season of the How to Do Business Series\, the perfect space for subcontractors and general contractors who are members of the GHCA community to learn first-hand about the pre-selection processes used by large companies in the state of Georgia to develop their construction projects and those who are responsible for evaluating and selecting candidates.\n\n\n\nMARTA will lead our first 2023 session on March 22 at their headquarters\, from 5:30 until 7:30 pm. Do not miss the opportunity\, register as soon as possible\, to guarantee that you will be one of those who are there.
X-ALT-DESC;FMTTYPE=text/html:<span style="font-size:24px\;"><span style="font-family:tahoma\;"><span style="color:#000000\;">We are ready to start a new season of the&nbsp\;<strong><em>How to Do Business Series</em></strong>\, the perfect space for subcontractors and general contractors who are members of the&nbsp\;<strong>GHCA</strong>&nbsp\;community to learn first-hand about the pre-selection processes used by large companies in the state of Georgia to develop their construction projects and those who are responsible for evaluating and selecting candidates.<br />\n<br />\nMARTA will lead our first 2023 session on March 22 at their headquarters\, from 5:30 until 7:30 pm.&nbsp\;Do not miss the opportunity\, register as soon as possible\, to guarantee that you will be one of those who are there.&nbsp\;</span></span></span><br />\n<br />\n&nbsp\;
LOCATION:MARTA HQ 2424 Piedmont Rd. NE\, Atlanta\, GA\, 30324
UID:e.9342.1710
SEQUENCE:3
DTSTAMP:20260421T080650Z
URL:http://georgiahcaga.memberzone.com/events/details/how-to-do-business-series-marta-1710
END:VEVENT

END:VCALENDAR
