BEGIN:VCALENDAR
VERSION:2.0
PRODID:-//ChamberMaster//Event Calendar 2.0//EN
METHOD:PUBLISH
X-PUBLISHED-TTL:P3D
REFRESH-INTERVAL:P3D
CALSCALE:GREGORIAN
BEGIN:VEVENT
DTSTART:20220914T203000Z
DTEND:20220914T213000Z
X-MICROSOFT-CDO-ALLDAYEVENT:FALSE
SUMMARY:How to do Business Series / McCarthy
DESCRIPTION:We would like you to be part of this! Our next session of the How to Do Business Series with McCarthy. The perfect space for subcontractors and general contractors who are members of the GHCA community to learn first-hand about the pre-selection processes used by this leading construction company in the state of Georgia to develop their construction projects and those who are responsible for evaluating and selecting candidates.\n\nThis free activity\, sponsored by: Argos\, JP Morgan Chase\, Rays Stairs and Fulcro is exclusively for active members of the GHCA. Space is limited\, as we want to ensure that each of the attendees can have access to detailed information and the opportunity to talk with the decision makers.
X-ALT-DESC;FMTTYPE=text/html:<span style="font-size:22px\;"><span style="font-family:tahoma\;"><span style="color:#000000\;">We would like you to be part of this! Our next session of the <strong><em>How to Do Business Series</em></strong> with <strong>McCarthy</strong>. The perfect space for subcontractors and general contractors who are members of the <strong>GHCA</strong> community to learn first-hand about the pre-selection processes used by this leading construction company in the state of Georgia to develop their construction projects and those who are responsible for evaluating and selecting candidates.<br />\nThis free activity\, sponsored by: <strong>Argos\, JP Morgan Chase\, Rays Stairs</strong> and <strong>Fulcro</strong> is exclusively for active members of the <strong>GHCA</strong>. Space is limited\, as we want to ensure that each of the attendees can have access to detailed information and the opportunity to talk with the decision makers.&nbsp\;</span></span></span><br style="color: rgb(0\, 0\, 0)\; font-family: tahoma\; font-size: 22px\;" />\n&nbsp\;
LOCATION:Details will be provided upon registration
UID:e.9342.1680
SEQUENCE:3
DTSTAMP:20260421T213457Z
URL:http://georgiahcaga.memberzone.com/events/details/how-to-do-business-series-mccarthy-1680
END:VEVENT

END:VCALENDAR
