BEGIN:VCALENDAR
VERSION:2.0
PRODID:-//ChamberMaster//Event Calendar 2.0//EN
METHOD:PUBLISH
X-PUBLISHED-TTL:P3D
REFRESH-INTERVAL:P3D
CALSCALE:GREGORIAN
BEGIN:VEVENT
DTSTART:20190508T193000Z
DTEND:20190508T210000Z
X-MICROSOFT-CDO-ALLDAYEVENT:FALSE
SUMMARY:How to do Business with a General Contractor Session 1
DESCRIPTION:One of our most valuable assets is our ability to connect\; this is why four times a year we invite one of our General Contractor members to reveal the secret that allows Subcontractors to become part of major projects.\n\n\n\nThis time we have the pleasure to have Winter Construction presenting opportunities and going over all the details that Subcontractors need to partner up in construction projects.\n\n\n\nWe especially thank P2K for being the great sponsor of this event.\n\n\n\nPlease contact GHCA to see if your company qualifies to attend this event.
X-ALT-DESC;FMTTYPE=text/html:One of our most valuable assets is our ability to connect\; this is why four times a year we invite one of our General Contractor members to reveal the secret that allows Subcontractors to become part of major projects.<br />\n<br />\nThis time we have the pleasure to have Winter Construction presenting&nbsp\;<span id="docs-internal-guid-2722fd99-7fff-1c2e-6c96-dab5f96d39fe"><span style="font-size: 10pt\; font-family: Arial\; font-variant-numeric: normal\; font-variant-east-asian: normal\; vertical-align: baseline\; white-space: pre-wrap\;">opportunities</span></span> and going over all the details that Subcontractors need to partner up in construction projects.<br />\n<br />\nWe especially thank P2K for being the great sponsor of this event.<br />\n<br />\nPlease contact GHCA to see if your company qualifies to attend this event.
LOCATION:Georgia Hispanic Construction Association 2750 Buford Hwy NE | Suite 218 Atlanta\, GA 30324
UID:e.9342.1366
SEQUENCE:3
DTSTAMP:20260425T133217Z
URL:http://georgiahcaga.memberzone.com/events/details/how-to-do-business-with-a-general-contractor-session-1-1366
END:VEVENT

END:VCALENDAR
