BEGIN:VCALENDAR
VERSION:2.0
PRODID:-//ChamberMaster//Event Calendar 2.0//EN
METHOD:PUBLISH
X-PUBLISHED-TTL:P3D
REFRESH-INTERVAL:P3D
CALSCALE:GREGORIAN
BEGIN:VEVENT
DTSTART:20210602T203000Z
DTEND:20210602T220000Z
X-MICROSOFT-CDO-ALLDAYEVENT:FALSE
SUMMARY:How to do Business with McCarthy
DESCRIPTION:Do you want to learn about the process to work with some of the most recognized General Contractors in Georgia? Join us to explore great opportunities for your company\, starting June 2nd! You don't want to miss the "How to do Business Series!"\n\nPre-qualification required\, call us at 404-229-8070 or send an email at ereyes@georgiahca.org\n\n\n\nThanks to Argos\, White Cap and Eagle Construction for supporting this program and allow the growth of our members through business opportunities!
X-ALT-DESC;FMTTYPE=text/html:<span style="caret-color: rgb(5\, 5\, 5)\; color: rgb(5\, 5\, 5)\; font-family: system-ui\, -apple-system\, BlinkMacSystemFont\, &quot\;.SFNSText-Regular&quot\;\, sans-serif\; font-size: 15px\;">Do you want to learn about the process to work with some of the most recognized General Contractors in Georgia? Join us to explore great opportunities for your company\, starting June 2nd! You don&#39\;t want to miss the &ldquo\;How to do Business Series!&rdquo\;</span><br style="caret-color: rgb(5\, 5\, 5)\; color: rgb(5\, 5\, 5)\; font-family: system-ui\, -apple-system\, BlinkMacSystemFont\, &quot\;.SFNSText-Regular&quot\;\, sans-serif\; font-size: 15px\;" />\n<span style="caret-color: rgb(5\, 5\, 5)\; color: rgb(5\, 5\, 5)\; font-family: system-ui\, -apple-system\, BlinkMacSystemFont\, &quot\;.SFNSText-Regular&quot\;\, sans-serif\; font-size: 15px\;">Pre-qualification required\, call us at 404-229-8070 or send an email at ereyes@georgiahca.org</span><br style="caret-color: rgb(5\, 5\, 5)\; color: rgb(5\, 5\, 5)\; font-family: system-ui\, -apple-system\, BlinkMacSystemFont\, &quot\;.SFNSText-Regular&quot\;\, sans-serif\; font-size: 15px\;" />\n<br style="caret-color: rgb(5\, 5\, 5)\; color: rgb(5\, 5\, 5)\; font-family: system-ui\, -apple-system\, BlinkMacSystemFont\, &quot\;.SFNSText-Regular&quot\;\, sans-serif\; font-size: 15px\;" />\n<span style="caret-color: rgb(5\, 5\, 5)\; color: rgb(5\, 5\, 5)\; font-family: system-ui\, -apple-system\, BlinkMacSystemFont\, &quot\;.SFNSText-Regular&quot\;\, sans-serif\; font-size: 15px\;">Thanks to&nbsp\;</span><span style="font-family: system-ui\, -apple-system\, BlinkMacSystemFont\, &quot\;.SFNSText-Regular&quot\;\, sans-serif\; caret-color: rgb(5\, 5\, 5)\; color: rgb(5\, 5\, 5)\; font-size: 15px\;"><a class="oajrlxb2 g5ia77u1 qu0x051f esr5mh6w e9989ue4 r7d6kgcz rq0escxv nhd2j8a9 nc684nl6 p7hjln8o kvgmc6g5 cxmmr5t8 oygrvhab hcukyx3x jb3vyjys rz4wbd8a qt6c0cv9 a8nywdso i1ao9s8h esuyzwwr f1sip0of lzcic4wl oo9gr5id gpro0wi8 lrazzd5p" href="https://www.facebook.com/cementosargos/?__tn__=kK*F" role="link" style="color: var(--primary-text)\; cursor: pointer\; text-decoration: none\; outline: none\; list-style: none\; border: 0px\; padding: 0px\; margin: 0px\; touch-action: manipulation\; text-align: inherit\; font-weight: 600\; display: inline\; box-sizing: border-box\; font-family: inherit\;" tabindex="0"><span class="nc684nl6" style="display: inline\; font-family: inherit\;"><span style="font-family: inherit\;">Argos</span></span></a></span><span style="caret-color: rgb(5\, 5\, 5)\; color: rgb(5\, 5\, 5)\; font-family: system-ui\, -apple-system\, BlinkMacSystemFont\, &quot\;.SFNSText-Regular&quot\;\, sans-serif\; font-size: 15px\;">\,&nbsp\;</span><span style="font-family: system-ui\, -apple-system\, BlinkMacSystemFont\, &quot\;.SFNSText-Regular&quot\;\, sans-serif\; caret-color: rgb(5\, 5\, 5)\; color: rgb(5\, 5\, 5)\; font-size: 15px\;"><a class="oajrlxb2 g5ia77u1 qu0x051f esr5mh6w e9989ue4 r7d6kgcz rq0escxv nhd2j8a9 nc684nl6 p7hjln8o kvgmc6g5 cxmmr5t8 oygrvhab hcukyx3x jb3vyjys rz4wbd8a qt6c0cv9 a8nywdso i1ao9s8h esuyzwwr f1sip0of lzcic4wl oo9gr5id gpro0wi8 lrazzd5p" href="https://www.facebook.com/WeAreWhiteCap/?__tn__=kK*F" role="link" style="color: var(--primary-text)\; cursor: pointer\; text-decoration: none\; outline: none\; list-style: none\; border: 0px\; padding: 0px\; margin: 0px\; touch-action: manipulation\; text-align: inherit\; font-weight: 600\; display: inline\; box-sizing: border-box\; font-family: inherit\;" tabindex="0"><span class="nc684nl6" style="display: inline\; font-family: inherit\;"><span style="font-family: inherit\;">White Cap</span></span></a></span><span style="caret-color: rgb(5\, 5\, 5)\; color: rgb(5\, 5\, 5)\; font-family: system-ui\, -apple-system\, BlinkMacSystemFont\, &quot\;.SFNSText-Regular&quot\;\, sans-serif\; font-size: 15px\;">&nbsp\;and Eagle Construction for supporting this program and allow the growth of our members through business opportunities!</span>
LOCATION:
UID:e.9342.1555
SEQUENCE:3
DTSTAMP:20260423T020042Z
URL:http://georgiahcaga.memberzone.com/events/details/how-to-do-business-with-a-general-contractor-session-3-1555
END:VEVENT

END:VCALENDAR
