BEGIN:VCALENDAR
VERSION:2.0
PRODID:-//ChamberMaster//Event Calendar 2.0//EN
METHOD:PUBLISH
X-PUBLISHED-TTL:P3D
REFRESH-INTERVAL:P3D
CALSCALE:GREGORIAN
BEGIN:VEVENT
DTSTART:20220817T210000Z
DTEND:20220817T220000Z
X-MICROSOFT-CDO-ALLDAYEVENT:FALSE
SUMMARY:How to do Business with Atlanta Housing Authority
DESCRIPTION:How to Do Business Series is the perfect space for subcontractors and general contractors who are members of the GHCA community to learn first-hand about the pre-selection processes used by large companies in the state of Georgia to develop their construction projects and those who are responsible for evaluating and selecting candidates.\n\nThis free activity is exclusively for active members of the GHCA.\n\nSpace is limited\, as we want to ensure that each of the attendees can have access to detailed information and the opportunity to talk with the decision makers. Do not miss the opportunity\, register as soon as possible\, to guarantee that you will be one of those who are there.\n\nWe will have several events throughout the year thanks to our sponsor's support: Argos\, JP Morgan Chase\, Rays Stairs and Fulcro.\n\nRegistration is now open and is limited.
X-ALT-DESC;FMTTYPE=text/html:<span style="color: rgb(0\, 0\, 0)\; font-size: 22px\; font-family: tahoma\, sans-serif\;"><strong><em>How to Do Business Series&nbsp\;</em></strong>is&nbsp\;the perfect space for subcontractors and general contractors who are members of the&nbsp\;<strong>GHCA</strong>&nbsp\;community to learn first-hand about the pre-selection processes used by large companies in the state of Georgia to develop their construction projects and those who are responsible for evaluating and selecting candidates.</span><br style="color: rgb(0\, 0\, 0)\; font-size: 22px\;" />\n<span style="color: rgb(0\, 0\, 0)\; font-size: 22px\; font-family: tahoma\, sans-serif\;">This free activity is exclusively for active members of the&nbsp\;<strong>GHCA</strong>.<br />\nSpace is limited\, as we want to ensure that each of the attendees can have access to detailed information and the opportunity to talk with the decision makers. Do not miss the opportunity\, register as soon as possible\, to guarantee that you will be one of those who are there.</span><br style="color: rgb(0\, 0\, 0)\; font-size: 22px\;" />\n<span style="color: rgb(0\, 0\, 0)\; font-size: 22px\; font-family: tahoma\, sans-serif\;">We will have several events throughout the year thanks to our sponsor&rsquo\;s support:&nbsp\;<strong>Argos\, JP Morgan Chase\, Rays Stairs</strong>&nbsp\;and&nbsp\;<strong>Fulcro</strong>.<br />\nRegistration is now open and is limited.&nbsp\;</span>
LOCATION:Details will be provided upon registration
UID:e.9342.1675
SEQUENCE:3
DTSTAMP:20260421T230438Z
URL:http://georgiahcaga.memberzone.com/events/details/how-to-do-business-with-atlanta-housing-authority-1675
END:VEVENT

END:VCALENDAR
