BEGIN:VCALENDAR
VERSION:2.0
PRODID:-//ChamberMaster//Event Calendar 2.0//EN
METHOD:PUBLISH
X-PUBLISHED-TTL:P3D
REFRESH-INTERVAL:P3D
CALSCALE:GREGORIAN
BEGIN:VEVENT
DTSTART:20210714T203000Z
DTEND:20210714T220000Z
X-MICROSOFT-CDO-ALLDAYEVENT:FALSE
SUMMARY:How to Do Business with Brasfield & Gorrie
DESCRIPTION:Do you want to learn about the process to work with Brasfield & Gorrie and the opportunities available for your company?\n\n\n\nJoin us on Wednesday\, July 14th\, to learn more about the requirements to participate in their projects. You don't want to miss this opportunity.\n\n \n\nPre-qualification required!\n\nContact us at 404-229-8070 or via email at ereyes@georgiahca.org
X-ALT-DESC;FMTTYPE=text/html:<span style="font-size:18px\;">Do you want to learn about the process to work with Brasfield &amp\; Gorrie and the opportunities available for your company?<br />\n<br />\nJoin us on Wednesday\, July 14th\, to learn more about the requirements to participate in their projects. You don&#39\;t want to miss this opportunity.<br />\n&nbsp\;<br />\nPre-qualification required!<br />\nContact us at 404-229-8070 or via email at ereyes@georgiahca.org&nbsp\;</span>
LOCATION:IN-PERSON EVENT
UID:e.9342.1595
SEQUENCE:3
DTSTAMP:20260423T020057Z
URL:http://georgiahcaga.memberzone.com/events/details/how-to-do-business-with-brasfield-gorrie-1595
END:VEVENT

END:VCALENDAR
