BEGIN:VCALENDAR
VERSION:2.0
PRODID:-//ChamberMaster//Event Calendar 2.0//EN
METHOD:PUBLISH
X-PUBLISHED-TTL:P3D
REFRESH-INTERVAL:P3D
CALSCALE:GREGORIAN
BEGIN:VEVENT
DTSTART:20210908T160000Z
DTEND:20210908T180000Z
X-MICROSOFT-CDO-ALLDAYEVENT:FALSE
SUMMARY:How to Do Business with MARTA
DESCRIPTION:There are incredible opportunities for Prime Contractors and Subcontractors to work with MARTA.\n\nRegister for this Virtual Session and learn how to pre-qualify as a Vendor with MARTA\, plus learn the opportunities that lie ahead!\n\nSept 8 virtual session!
X-ALT-DESC;FMTTYPE=text/html:<span style="font-size:20px\;"><span style="font-family:tahoma\;"><span style="caret-color: rgb(5\, 5\, 5)\; color: rgb(5\, 5\, 5)\; white-space: pre-wrap\;">There are incredible opportunities for Prime Contractors and Subcontractors to work with MARTA.<br />\nRegister for this Virtual Session and learn how to pre-qualify as a Vendor with MARTA\, plus learn the opportunities that lie ahead!</span></span></span><br />\n<span style="caret-color: rgb(5\, 5\, 5)\; color: rgb(5\, 5\, 5)\; white-space: pre-wrap\; font-family: tahoma\; font-size: 20px\;">Sept 8 virtual session!</span>
LOCATION:Virtual Session
UID:e.9342.1585
SEQUENCE:3
DTSTAMP:20260423T014454Z
URL:http://georgiahcaga.memberzone.com/events/details/how-to-do-business-with-marta-1585
END:VEVENT

END:VCALENDAR
