BEGIN:VCALENDAR
VERSION:2.0
PRODID:-//ChamberMaster//Event Calendar 2.0//EN
METHOD:PUBLISH
X-PUBLISHED-TTL:P3D
REFRESH-INTERVAL:P3D
CALSCALE:GREGORIAN
BEGIN:VEVENT
DTSTART:20201001T203000Z
DTEND:20201001T213000Z
X-MICROSOFT-CDO-ALLDAYEVENT:FALSE
SUMMARY:How To Do Business with P2K
DESCRIPTION:We invite our General Contractors and Project Owners to discuss project opportunities.\n\nWe will continue the HTDB Series on Thursday\, October 1st with P2K and then Batson Cook Construction on October 8th. Pre-qualification required\, please contact Eleana Reyes at \n\nereyes@georgiahca.org or call 404-229-8070
X-ALT-DESC;FMTTYPE=text/html:<span style="font-size:18px\;"><span style="caret-color: rgb(5\, 5\, 5)\; color: rgb(5\, 5\, 5)\; font-family: system-ui\, -apple-system\, BlinkMacSystemFont\, &quot\;.SFNSText-Regular&quot\;\, sans-serif\;">We invite our General Contractors and Project Owners to discuss project opportunities.<br />\nWe will continue the HTDB Series on Thursday\, October 1st with P2K and then Batson Cook Construction on October 8th. Pre-qualification required\, please contact Eleana Reyes at&nbsp\;</span><br style="caret-color: rgb(5\, 5\, 5)\; color: rgb(5\, 5\, 5)\; font-family: system-ui\, -apple-system\, BlinkMacSystemFont\, &quot\;.SFNSText-Regular&quot\;\, sans-serif\; font-size: 15px\;" />\n<span style="caret-color: rgb(5\, 5\, 5)\; color: rgb(5\, 5\, 5)\; font-family: system-ui\, -apple-system\, BlinkMacSystemFont\, &quot\;.SFNSText-Regular&quot\;\, sans-serif\;">ereyes@georgiahca.org or call 404-229-8070</span></span>
LOCATION:Virtual Session
UID:e.9342.1525
SEQUENCE:3
DTSTAMP:20260424T042852Z
URL:http://georgiahcaga.memberzone.com/events/details/how-to-do-business-with-p2k-1525
END:VEVENT

END:VCALENDAR
