BEGIN:VCALENDAR
VERSION:2.0
PRODID:-//ChamberMaster//Event Calendar 2.0//EN
METHOD:PUBLISH
X-PUBLISHED-TTL:P3D
REFRESH-INTERVAL:P3D
CALSCALE:GREGORIAN
BEGIN:VEVENT
DTSTART:20210721T203000Z
DTEND:20210721T220000Z
X-MICROSOFT-CDO-ALLDAYEVENT:FALSE
SUMMARY:How to do Business with P2K
DESCRIPTION:Do you want to learn about the process to work with Precision 2000\, Inc and the opportunities available for your company?\n\n\n\nJoin us on Wednesday\, July 21st! You don't want to miss this informational session.
X-ALT-DESC;FMTTYPE=text/html:<div dir="auto" style="font-family: system-ui\, -apple-system\, BlinkMacSystemFont\, &quot\;.SFNSText-Regular&quot\;\, sans-serif\; caret-color: rgb(5\, 5\, 5)\; color: rgb(5\, 5\, 5)\; font-size: 15px\; white-space: pre-wrap\;"><span style="font-size:20px\;"><span style="font-family:tahoma\;">Do you want to learn about the process to work with <a class="oajrlxb2 g5ia77u1 qu0x051f esr5mh6w e9989ue4 r7d6kgcz rq0escxv nhd2j8a9 nc684nl6 p7hjln8o kvgmc6g5 cxmmr5t8 oygrvhab hcukyx3x jb3vyjys rz4wbd8a qt6c0cv9 a8nywdso i1ao9s8h esuyzwwr f1sip0of lzcic4wl q66pz984 gpro0wi8 b1v8xokw" href="https://www.facebook.com/P2KInc/?__cft__[0]=AZVCDdKy2nmNWMC963ne9SkI_xkI6Vm08tf95gkcJAIf1BxZW_oTaz8dWjlzgiR0YYr5IYqknFm1n0F0gYDywocjgp6uBWfc31E-0Jgfd1OCEF6LeJe77AA9bxB7tCdNCMRfIPU95T8LzwnfvhkDDKTviObatOdd_nEcihDb4Fuux7kLjhcXnIlPXAYu5ilq2aY&amp\;__tn__=kK-R" role="link" style="color: var(--accent)\; cursor: pointer\; text-decoration: none\; outline: none\; list-style: none\; border: 0px\; padding: 0px\; margin: 0px\; touch-action: manipulation\; text-align: inherit\; display: inline\; box-sizing: border-box\; font-family: inherit\;" tabindex="0"><span class="nc684nl6" style="display: inline\;">Precision 2000\, Inc</span></a> and the opportunities available for your company?<br />\n<br />\nJoin us on Wednesday\, July 21st! You don&#39\;t want to miss this informational session.</span></span></div>\n\n<div dir="auto" style="font-family: system-ui\, -apple-system\, BlinkMacSystemFont\, &quot\;.SFNSText-Regular&quot\;\, sans-serif\; caret-color: rgb(5\, 5\, 5)\; color: rgb(5\, 5\, 5)\; font-size: 15px\; white-space: pre-wrap\;">&nbsp\;</div>\n
LOCATION:IN-PERSON Address session Latin American Association 2750 Buford Hwy NE\, Atlanta\, GA 30324
UID:e.9342.1591
SEQUENCE:3
DTSTAMP:20260423T020059Z
URL:http://georgiahcaga.memberzone.com/events/details/how-to-do-business-with-p2k-1591
END:VEVENT

END:VCALENDAR
