BEGIN:VCALENDAR
VERSION:2.0
PRODID:-//ChamberMaster//Event Calendar 2.0//EN
METHOD:PUBLISH
X-PUBLISHED-TTL:P3D
REFRESH-INTERVAL:P3D
CALSCALE:GREGORIAN
BEGIN:VEVENT
DTSTART:20220823T203000Z
DTEND:20220823T220000Z
X-MICROSOFT-CDO-ALLDAYEVENT:FALSE
SUMMARY:How to do Business with SKANSKA
DESCRIPTION:We would like you to be part of this! Our next session of the How to Do Business Series with SKANSKA. The perfect space for subcontractors and general contractors who are members of the GHCA community to learn first-hand about the pre-selection processes used by this leading construction company in the state of Georgia to develop their construction projects and those who are responsible for evaluating and selecting candidates.\n\nThis free activity\, sponsored by: Argos\, JP Morgan Chase\, Rays Stairs and Fulcro is exclusively for active members of the GHCA. Space is limited\, as we want to ensure that each of the attendees can have access to detailed information and the opportunity to talk with the decision makers.\n\nDo not miss the opportunity.\n\nContact Gabriela Matute at gmatute@georgiahca.org for registration.
X-ALT-DESC;FMTTYPE=text/html:<span style="font-size:22px\;"><span style="font-family:tahoma\;"><span style="color:#000000\;">We would like you to be part of this! Our next session of the <strong><em>How to Do Business Series</em></strong> with <strong>SKANSKA</strong>. The perfect space for subcontractors and general contractors who are members of the <strong>GHCA</strong> community to learn first-hand about the pre-selection processes used by this leading construction company in the state of Georgia to develop their construction projects and those who are responsible for evaluating and selecting candidates.</span></span></span><br />\n<span style="font-family:tahoma\,sans-serif\;"><span style="font-size:12.0pt\;"><span style="font-size:22px\;"><span style="font-family:tahoma\;"><span style="color:#000000\;">This free activity\, sponsored by: <strong>Argos\, JP Morgan Chase\, Rays Stairs</strong> and <strong>Fulcro</strong> is exclusively for active members of the <strong>GHCA</strong>. Space is limited\, as we want to ensure that each of the attendees can have access to detailed information and the opportunity to talk with the decision makers.<br />\nDo not miss the opportunity.<br />\nContact Gabriela Matute at gmatute@georgiahca.org for registration.&nbsp\;</span></span></span></span></span><br />\n&nbsp\;
LOCATION:Location will be provided upon registration
UID:e.9342.1676
SEQUENCE:3
DTSTAMP:20260422T010127Z
URL:http://georgiahcaga.memberzone.com/events/details/how-to-do-business-with-skanska-1676
END:VEVENT

END:VCALENDAR
