BEGIN:VCALENDAR
VERSION:2.0
PRODID:-//ChamberMaster//Event Calendar 2.0//EN
METHOD:PUBLISH
X-PUBLISHED-TTL:P3D
REFRESH-INTERVAL:P3D
CALSCALE:GREGORIAN
BEGIN:VEVENT
DTSTART:20220825T163000Z
DTEND:20220825T203000Z
X-MICROSOFT-CDO-ALLDAYEVENT:FALSE
SUMMARY:I am Remarkable Workshop
DESCRIPTION:Te invitamos a este taller gratuito e interactivo dirigido a nuestras Latinas en Construcci n que te ayudar  a desarrollar la confianza en t  misma\, promover tus logros y aciertos con seguridad en tu lugar de trabajo y en cualquier espacio de tu vida\, mientras creas contactos con otras personas que\, como t \, aman desarrollar sus habilidades para ser mejor persona y profesional.\n\nImpartido completamente en espa ol por la emprendedora\, conferencista y periodista Judith Martinez Sadri\, facilitadora certificada por Google.\n\n \n\nPATROCINADO POR \n\nBrasfield & Gorrie\n\nP2K\n\nWhite Cap\n\nRick Baker/Merrill Lynch\n\n\n\n**EL CUPO ES LIMITADO** Si te registras y por alg n motivo no puedes asistir\, por favor comun cate al (470)889.8379 o env a un email a gmatute@georgiahca.org\, para as  darle oportunidad a otras personas que quieran participar.\n\n\n\nEl taller es gratuito\, para mayores de 15 a os.
X-ALT-DESC;FMTTYPE=text/html:<span style="font-size:22px\;"><span style="font-family:tahoma\;"><span style="color:#000000\;">Te invitamos a este taller gratuito e interactivo dirigido a nuestras Latinas en Construcci&oacute\;n que te ayudar&aacute\; a desarrollar la confianza en t&iacute\; misma\,&nbsp\;promover tus logros y aciertos con seguridad en tu lugar de trabajo y en cualquier espacio de tu vida\, mientras creas contactos con otras personas que\, como t&uacute\;\, aman desarrollar sus habilidades para ser mejor persona y profesional.<br />\nImpartido completamente en espa&ntilde\;ol por la emprendedora\, conferencista y periodista Judith Martinez Sadri\, facilitadora certificada por Google.<br />\n&nbsp\;<br />\nPATROCINADO POR&nbsp\;<br />\nBrasfield &amp\; Gorrie<br />\nP2K<br />\nWhite Cap<br />\nRick Baker/Merrill Lynch<br />\n<br />\n**EL CUPO ES LIMITADO** Si te registras y por alg&uacute\;n motivo no puedes&nbsp\;asistir\, por favor comun&iacute\;cate al (470)889.8379 o env&iacute\;a un email a gmatute@georgiahca.org\, para as&iacute\; darle oportunidad a otras personas que quieran participar.<br />\n<br />\nEl taller es gratuito<u>\,</u><strong>&nbsp\;para mayores de 15 a&ntilde\;os.</strong><br />\n&nbsp\;</span></span></span><br />\n&nbsp\;<br />\n<br />\n&nbsp\;<br />\n&nbsp\;<br />\n&nbsp\;
LOCATION:2750 Buford Hwy NE\, Atlanta\, GA 30324 Auditorium #1\, piso 2
UID:e.9342.1654
SEQUENCE:3
DTSTAMP:20260421T225851Z
URL:http://georgiahcaga.memberzone.com/events/details/i-am-remarkable-workshop-1654
END:VEVENT

END:VCALENDAR
