BEGIN:VCALENDAR
VERSION:2.0
PRODID:-//ChamberMaster//Event Calendar 2.0//EN
METHOD:PUBLISH
X-PUBLISHED-TTL:P3D
REFRESH-INTERVAL:P3D
CALSCALE:GREGORIAN
BEGIN:VEVENT
DTSTART:20230216T173000Z
DTEND:20230216T203000Z
X-MICROSOFT-CDO-ALLDAYEVENT:FALSE
SUMMARY:I am Remarkable Workshop
DESCRIPTION:Este 16 de febrero realizaremos una nueva edici n de I am remarkable\, el exitoso workshop desarrollado por Google que se ha implementado en m s de 150 pa ses.  Una experiencia que no te puedes perder!\n\n \n\nLa periodista Judith Martinez Sadri\, conferencista y facilitadora certificada por Google te guiar  a lo largo de esta interactiva y reflexiva jornada\, para ayudarte a desarrollar la confianza en ti misma\, aprender a promover tus logros con seguridad e incrementar la asertividad en todos los espacios de tu vida.\n\n \n\nHaz espacio en tu complicada agenda para dedicarte una tarde a ti misma y  conocer a otras mujeres que\, como t \, quieren establecer nuevos contactos mientras desarrollan sus habilidades personales y profesionales.\n\n \n\nEs un taller impartido en espa ol. Ven preparada para aprender\, compartir y obtener valiosas herramientas para tu crecimiento personal.\n\n \n\n**EL CUPO ES LIMITADO** Si te registras y por alg n motivo no puedes asistir\, por favor comun cate al (470)889.8379 o env a un email a gmatute@georgiahca.org\, para as  darle oportunidad a otras personas que quieran participar.
X-ALT-DESC;FMTTYPE=text/html:<span style="font-size:22px\;"><span style="font-family:tahoma\;"><span style="color:black\;">Este 16 de febrero realizaremos una nueva edici&oacute\;n de <strong><em>I am remarkable</em></strong>\, el exitoso workshop desarrollado por <strong>Google</strong> que se ha implementado en m&aacute\;s de 150 pa&iacute\;ses. &iexcl\;Una experiencia que no te puedes perder!</span><br />\n&nbsp\;<br />\n<span style="color:black\;">La periodista <strong>Judith Martinez Sadri</strong>\, conferencista y facilitadora certificada por <strong>Google</strong> te guiar&aacute\; a lo largo de esta interactiva y reflexiva jornada\, para ayudarte a desarrollar la confianza en ti misma\,&nbsp\;aprender a promover tus logros con seguridad e incrementar la asertividad en todos los espacios de tu vida.</span><br />\n&nbsp\;<br />\n<span style="color:black\;">Haz espacio en tu complicada agenda para dedicarte una tarde a ti misma y&nbsp\;&nbsp\;conocer a otras mujeres que\, como t&uacute\;\, quieren establecer nuevos contactos mientras desarrollan sus habilidades personales y profesionales.</span><br />\n&nbsp\;<br />\n<span style="color:black\;">Es un taller impartido en espa&ntilde\;ol. Ven preparada para aprender\, compartir y obtener valiosas herramientas para tu crecimiento personal.</span><br />\n&nbsp\;<br />\n<span style="color:black\;">**EL CUPO ES LIMITADO** Si te registras y por alg&uacute\;n motivo no puedes&nbsp\;asistir\, por favor comun&iacute\;cate al (470)889.8379 o env&iacute\;a un email a gmatute@georgiahca.org\, para as&iacute\; darle oportunidad a otras personas que quieran participar.</span></span></span><br />\n&nbsp\;
LOCATION:2750 Buford Hwy NE\, Atlanta\, GA\, 30324 Auditorium #1\, Segundo piso
UID:e.9342.1700
SEQUENCE:3
DTSTAMP:20260423T092406Z
URL:http://georgiahcaga.memberzone.com/events/details/i-am-remarkable-workshop-1700
END:VEVENT

END:VCALENDAR
