BEGIN:VCALENDAR
VERSION:2.0
PRODID:-//ChamberMaster//Event Calendar 2.0//EN
METHOD:PUBLISH
X-PUBLISHED-TTL:P3D
REFRESH-INTERVAL:P3D
CALSCALE:GREGORIAN
BEGIN:VEVENT
DTSTART:20211118T050000Z
DTEND:20211118T170000Z
X-MICROSOFT-CDO-ALLDAYEVENT:FALSE
SUMMARY:Infrastructure Bill Webinar by NHCA
DESCRIPTION:INFRASTRUCTURE BILL 2021 WEBINAR\n\nWHAT EVERY CONTRACTOR NEEDS TO KNOW\n\n	Roads\, Bridges\, and Major Projects\n	Safety\n	Public Transit\n	Passenger and Freight Rail\n	Reconnecting Communities\n	Airports\, Ports\, and Waterways\n	Resilience and Western Water Infrastructure\n	Clean Drinking Water\n	Power Infrastructure\n\nSpecial Guest Panelists\n\n\n\nCarlos Monje\, Under Secretary U.S. Department of Transportation\n\n\n\nNaveen Parmar\, Chief Counsel\, U.S. Senator John Hickenlooper\n\n\n\nPlease RSVP \n\nhttps://events.r20.constantcontact.com/register/eventReg?oeidk=a07einooadpf4b927ce&oseq=&c=&ch=
X-ALT-DESC;FMTTYPE=text/html:INFRASTRUCTURE&nbsp\;BILL 2021 WEBINAR<br />\nWHAT EVERY CONTRACTOR NEEDS TO KNOW\n<ul>\n	<li>Roads\, Bridges\, and Major Projects</li>\n	<li>Safety</li>\n	<li>Public Transit</li>\n	<li>Passenger and Freight Rail</li>\n	<li>Reconnecting Communities</li>\n	<li>Airports\, Ports\, and Waterways</li>\n	<li>Resilience and Western Water Infrastructure</li>\n	<li>Clean Drinking Water</li>\n	<li>Power Infrastructure</li>\n</ul>\nSpecial Guest Panelists<br />\n<br />\nCarlos Monje\, Under Secretary U.S. Department of Transportation<br />\n<br />\nNaveen Parmar\, Chief Counsel\, U.S. Senator John Hickenlooper<br />\n<br />\nPlease RSVP&nbsp\;<br />\n<a data-saferedirecturl="https://www.google.com/url?q=https://events.r20.constantcontact.com/register/eventReg?oeidk%3Da07einooadpf4b927ce%26oseq%3D%26c%3D%26ch%3D&amp\;source=gmail&amp\;ust=1636037533697000&amp\;usg=AFQjCNELA5mJlJCNJiZF8fniWe3VHWI2mQ" href="https://events.r20.constantcontact.com/register/eventReg?oeidk=a07einooadpf4b927ce&amp\;oseq=&amp\;c=&amp\;ch=" style="font-size: 16px\; color: rgb(17\, 85\, 204)\; font-family: Calibri\, Arial\, Helvetica\, sans-serif\; text-align: center\;" target="_blank"><span style="font-size: 12pt\;">https://events.r20.<wbr />constantcontact.com/register/<wbr />eventReg?oeidk=<wbr />a07einooadpf4b927ce&amp\;oseq=&amp\;c=&amp\;<wbr />ch=</span></a>
LOCATION:
UID:e.9342.1604
SEQUENCE:3
DTSTAMP:20260423T013456Z
URL:http://georgiahcaga.memberzone.com/events/details/infrastructure-bill-webinar-by-nhca-1604
END:VEVENT

END:VCALENDAR
