BEGIN:VCALENDAR
VERSION:2.0
PRODID:-//ChamberMaster//Event Calendar 2.0//EN
METHOD:PUBLISH
X-PUBLISHED-TTL:P3D
REFRESH-INTERVAL:P3D
CALSCALE:GREGORIAN
BEGIN:VEVENT
DTSTART:20190709T140000Z
DTEND:20190709T160000Z
X-MICROSOFT-CDO-ALLDAYEVENT:FALSE
SUMMARY:Invitation to Bid Construction of Nature Trail at Briarwood Park
DESCRIPTION:Mandatory Pre-Bid Conference 10 am EST July 9\, 2019 \n\nDeadline for Questions: July 17\, 2019 @ 3:00 pm EST. Questions must be directed to: City of Brookhaven via e-mail to Director of Finance at Linda.Nabers@BrookhavenGA.gov Questions will only be accepted via email to ensure the same information is given to everyone. A questions addendum will be issued shortly after the deadline and posted on the City's Purchasing Page.
X-ALT-DESC;FMTTYPE=text/html:Mandatory Pre-Bid Conference 10 am EST July 9\, 2019&nbsp\;<br />\nDeadline for Questions: July 17\, 2019 @ 3:00 pm EST. Questions must be directed to: City of Brookhaven via e-mail to Director of Finance at Linda.Nabers@BrookhavenGA.gov Questions will only be accepted via email to ensure the same information is given to everyone. A questions addendum will be issued shortly after the deadline and posted on the City&rsquo\;s Purchasing Page.<br />\n&nbsp\;
LOCATION:Briarwood Park\, 2235 Briarwood Way\, NE\, Brookhaven\, GA 30319
UID:e.9342.1383
SEQUENCE:3
DTSTAMP:20260425T113507Z
URL:http://georgiahcaga.memberzone.com/events/details/invitation-to-bid-construction-of-nature-trail-at-briarwood-park-1383
END:VEVENT

END:VCALENDAR
