BEGIN:VCALENDAR
VERSION:2.0
PRODID:-//ChamberMaster//Event Calendar 2.0//EN
METHOD:PUBLISH
X-PUBLISHED-TTL:P3D
REFRESH-INTERVAL:P3D
CALSCALE:GREGORIAN
BEGIN:VEVENT
DTSTART:20211019T210000Z
DTEND:20211019T220000Z
X-MICROSOFT-CDO-ALLDAYEVENT:FALSE
SUMMARY:Invitation to Bid - Project Review Call with Winter Construction
DESCRIPTION:Location: Atlanta\, GA Project\n\nType: Government/Institutional\n\nBid Date: 11/02/2021\n\nBid Time: 02:00 PM\n\nEstimator: William Mensah Phone: 4048226273\n\nwmensah@winterconstruction.com\n\nYou are hereby invited to submit 100% Construction Document bid proposal on a 1 story\, 60\,000 SF\, new Fulton County Animal Services Facility with associated site work. This project has been awarded to Winter Johnson. Subcontract awards will be made from this solicitation and are anticipated to be in December 2021. The anticipated construction schedule is from April 2022 through September 2023. This is NOT a Davis-Bacon wage rate job. NOTE: Receipt of bids will be conducted in conjunction with the Fulton County Procurement Department\, and late bids cannot be accepted. You are also invited to a virtual (Zoom) Winter Johnson Group Pre-Proposal Open House Tuesday\, October 19\, 2021 5:00 PM 6:00 PM.\n\nSee the following for access:\n\nClick or copy and paste the following link into your browser to join the Zoom meeting:\n\nhttps://wintercompanies.zoom.us/j/87331163774\n\nMeeting ID: 873 3116 3774\n\nOne tap mobile\n\n+13126266799\,\,87331163774# US (Chicago)\n\n+16465588656\,\,87331163774# US (New York)\n\nDial by your location\n\n+1 312 626 6799 US (Chicago)\n\n+1 646 558 8656 US (New York)\n\n+1 301 715 8592 US (Washington DC)\n\n+1 346 248 7799 US (Houston)\n\nPlans can be\n\nreviewed at:\n\n+1 669 900 6833 US (San Jose)\n\n+1 253 215 8782 US (Tacoma)\n\n855 880 1246 US Toll-free\n\n877 369 0926 US Toll-free\n\nMeeting ID: 873 3116 3774\n\nFind your local number: https://wintercompanies.zoom.us/u/kexkbpjYRZ\n\nFor documents please click on the following dropbox link\n\n \n\nhttps://www.dropbox.com/sh/217f38amms4qz2q/AADUe5DMMwJ0oBt bo8oz73Zia?\n\ndl=0\n\n[PREQUAL_LINK]\n\nTrade Action\n\nClick here to review Winter Johnson Group's Insurance Requirements and Boilerplate\n\nContract.\n\nClick Submit to acknowledge you have reviewed the project scope\, Winter Johnson\n\nGroup's Insurance Requirements\, and Winter's Boilerplate\n\nContract.\n\nIf you do not wish to receive further invitations to bid from The Winter\n\nJohnson Group Company\, unsubscribe.\n\nClick here to register for a virtual (Zoom) Winter Johnson\n\nGroup Pre-Proposal Open House Call
X-ALT-DESC;FMTTYPE=text/html:<p style="font-size: 16px\; box-sizing: border-box\; margin: 0px 0px 10px\; caret-color: rgb(28\, 28\, 28)\; color: rgb(28\, 28\, 28)\; font-family: Helvetica\, Verdana\, Arial\, sans-serif\;">Location: Atlanta\, GA Project</p>\n\n<p style="font-size: 16px\; box-sizing: border-box\; margin: 0px 0px 10px\; caret-color: rgb(28\, 28\, 28)\; color: rgb(28\, 28\, 28)\; font-family: Helvetica\, Verdana\, Arial\, sans-serif\;">Type: Government/Institutional</p>\n\n<p style="font-size: 16px\; box-sizing: border-box\; margin: 0px 0px 10px\; caret-color: rgb(28\, 28\, 28)\; color: rgb(28\, 28\, 28)\; font-family: Helvetica\, Verdana\, Arial\, sans-serif\;">Bid Date: 11/02/2021</p>\n\n<p style="font-size: 16px\; box-sizing: border-box\; margin: 0px 0px 10px\; caret-color: rgb(28\, 28\, 28)\; color: rgb(28\, 28\, 28)\; font-family: Helvetica\, Verdana\, Arial\, sans-serif\;">Bid Time: 02:00 PM</p>\n\n<p style="font-size: 16px\; box-sizing: border-box\; margin: 0px 0px 10px\; caret-color: rgb(28\, 28\, 28)\; color: rgb(28\, 28\, 28)\; font-family: Helvetica\, Verdana\, Arial\, sans-serif\;">Estimator: William Mensah Phone: 4048226273</p>\n\n<p style="font-size: 16px\; box-sizing: border-box\; margin: 0px 0px 10px\; caret-color: rgb(28\, 28\, 28)\; color: rgb(28\, 28\, 28)\; font-family: Helvetica\, Verdana\, Arial\, sans-serif\;">wmensah@winterconstruction.com</p>\n\n<p style="font-size: 16px\; box-sizing: border-box\; margin: 0px 0px 10px\; caret-color: rgb(28\, 28\, 28)\; color: rgb(28\, 28\, 28)\; font-family: Helvetica\, Verdana\, Arial\, sans-serif\;">You are hereby invited to submit 100% Construction Document bid proposal on a 1&nbsp\;story\, 60\,000 SF\, new Fulton County Animal Services Facility with associated site&nbsp\;work.&nbsp\;This project has been awarded to Winter Johnson. Subcontract awards will be made&nbsp\;from this solicitation and are anticipated to be in December 2021. The anticipated&nbsp\;construction schedule is from April 2022 through September 2023. This is NOT a&nbsp\;Davis-Bacon wage rate job. NOTE: Receipt of bids will be conducted in conjunction&nbsp\;with the Fulton County Procurement Department\, and late bids cannot be accepted.&nbsp\;You are also invited to a virtual (Zoom) Winter Johnson Group Pre-Proposal Open&nbsp\;House Tuesday\, October 19\, 2021 5:00 PM 6:00 PM.</p>\n\n<p style="font-size: 16px\; box-sizing: border-box\; margin: 0px 0px 10px\; caret-color: rgb(28\, 28\, 28)\; color: rgb(28\, 28\, 28)\; font-family: Helvetica\, Verdana\, Arial\, sans-serif\;">See the following for access:</p>\n\n<p style="font-size: 16px\; box-sizing: border-box\; margin: 0px 0px 10px\; caret-color: rgb(28\, 28\, 28)\; color: rgb(28\, 28\, 28)\; font-family: Helvetica\, Verdana\, Arial\, sans-serif\;">Click or copy and paste the following link into your browser to join the Zoom meeting:</p>\n\n<p style="font-size: 16px\; box-sizing: border-box\; margin: 0px 0px 10px\; caret-color: rgb(28\, 28\, 28)\; color: rgb(28\, 28\, 28)\; font-family: Helvetica\, Verdana\, Arial\, sans-serif\;"><a href="https://wintercompanies.zoom.us/j/87331163774" style="box-sizing: border-box\; color: rgb(5\, 89\, 158)\; text-decoration: none\;">https://wintercompanies.zoom.us/j/87331163774</a></p>\n\n<p style="font-size: 16px\; box-sizing: border-box\; margin: 0px 0px 10px\; caret-color: rgb(28\, 28\, 28)\; color: rgb(28\, 28\, 28)\; font-family: Helvetica\, Verdana\, Arial\, sans-serif\;">Meeting ID: 873 3116 3774</p>\n\n<p style="font-size: 16px\; box-sizing: border-box\; margin: 0px 0px 10px\; caret-color: rgb(28\, 28\, 28)\; color: rgb(28\, 28\, 28)\; font-family: Helvetica\, Verdana\, Arial\, sans-serif\;">One tap mobile</p>\n\n<p style="font-size: 16px\; box-sizing: border-box\; margin: 0px 0px 10px\; caret-color: rgb(28\, 28\, 28)\; color: rgb(28\, 28\, 28)\; font-family: Helvetica\, Verdana\, Arial\, sans-serif\;">+13126266799\,\,87331163774# US (Chicago)</p>\n\n<p style="font-size: 16px\; box-sizing: border-box\; margin: 0px 0px 10px\; caret-color: rgb(28\, 28\, 28)\; color: rgb(28\, 28\, 28)\; font-family: Helvetica\, Verdana\, Arial\, sans-serif\;">+16465588656\,\,87331163774# US (New York)</p>\n\n<p style="font-size: 16px\; box-sizing: border-box\; margin: 0px 0px 10px\; caret-color: rgb(28\, 28\, 28)\; color: rgb(28\, 28\, 28)\; font-family: Helvetica\, Verdana\, Arial\, sans-serif\;">Dial by your location</p>\n\n<p style="font-size: 16px\; box-sizing: border-box\; margin: 0px 0px 10px\; caret-color: rgb(28\, 28\, 28)\; color: rgb(28\, 28\, 28)\; font-family: Helvetica\, Verdana\, Arial\, sans-serif\;">+1 312 626 6799 US (Chicago)</p>\n\n<p style="font-size: 16px\; box-sizing: border-box\; margin: 0px 0px 10px\; caret-color: rgb(28\, 28\, 28)\; color: rgb(28\, 28\, 28)\; font-family: Helvetica\, Verdana\, Arial\, sans-serif\;">+1 646 558 8656 US (New York)</p>\n\n<p style="font-size: 16px\; box-sizing: border-box\; margin: 0px 0px 10px\; caret-color: rgb(28\, 28\, 28)\; color: rgb(28\, 28\, 28)\; font-family: Helvetica\, Verdana\, Arial\, sans-serif\;">+1 301 715 8592 US (Washington DC)</p>\n\n<p style="font-size: 16px\; box-sizing: border-box\; margin: 0px 0px 10px\; caret-color: rgb(28\, 28\, 28)\; color: rgb(28\, 28\, 28)\; font-family: Helvetica\, Verdana\, Arial\, sans-serif\;">+1 346 248 7799 US (Houston)</p>\n\n<p style="font-size: 16px\; box-sizing: border-box\; margin: 0px 0px 10px\; caret-color: rgb(28\, 28\, 28)\; color: rgb(28\, 28\, 28)\; font-family: Helvetica\, Verdana\, Arial\, sans-serif\;">Plans can be</p>\n\n<p style="font-size: 16px\; box-sizing: border-box\; margin: 0px 0px 10px\; caret-color: rgb(28\, 28\, 28)\; color: rgb(28\, 28\, 28)\; font-family: Helvetica\, Verdana\, Arial\, sans-serif\;">reviewed at:</p>\n\n<p style="font-size: 16px\; box-sizing: border-box\; margin: 0px 0px 10px\; caret-color: rgb(28\, 28\, 28)\; color: rgb(28\, 28\, 28)\; font-family: Helvetica\, Verdana\, Arial\, sans-serif\;">+1 669 900 6833 US (San Jose)</p>\n\n<p style="font-size: 16px\; box-sizing: border-box\; margin: 0px 0px 10px\; caret-color: rgb(28\, 28\, 28)\; color: rgb(28\, 28\, 28)\; font-family: Helvetica\, Verdana\, Arial\, sans-serif\;">+1 253 215 8782 US (Tacoma)</p>\n\n<p style="font-size: 16px\; box-sizing: border-box\; margin: 0px 0px 10px\; caret-color: rgb(28\, 28\, 28)\; color: rgb(28\, 28\, 28)\; font-family: Helvetica\, Verdana\, Arial\, sans-serif\;">855 880 1246 US Toll-free</p>\n\n<p style="font-size: 16px\; box-sizing: border-box\; margin: 0px 0px 10px\; caret-color: rgb(28\, 28\, 28)\; color: rgb(28\, 28\, 28)\; font-family: Helvetica\, Verdana\, Arial\, sans-serif\;">877 369 0926 US Toll-free</p>\n\n<p style="font-size: 16px\; box-sizing: border-box\; margin: 0px 0px 10px\; caret-color: rgb(28\, 28\, 28)\; color: rgb(28\, 28\, 28)\; font-family: Helvetica\, Verdana\, Arial\, sans-serif\;">Meeting ID: 873 3116 3774</p>\n\n<p style="font-size: 16px\; box-sizing: border-box\; margin: 0px 0px 10px\; caret-color: rgb(28\, 28\, 28)\; color: rgb(28\, 28\, 28)\; font-family: Helvetica\, Verdana\, Arial\, sans-serif\;">Find your local number: https://wintercompanies.zoom.us/u/kexkbpjYRZ</p>\n\n<div style="caret-color: rgb(34\, 34\, 34)\; color: rgb(34\, 34\, 34)\; font-family: Arial\, Helvetica\, sans-serif\;"><u><span style="font-size:18px\;"><strong>For documents please click on the following dropbox link</strong></span></u><br />\n&nbsp\;</div>\n\n<p style="font-size: 16px\; box-sizing: border-box\; margin: 0px 0px 10px\; caret-color: rgb(28\, 28\, 28)\; color: rgb(28\, 28\, 28)\; font-family: Helvetica\, Verdana\, Arial\, sans-serif\;"><a href="https://www.dropbox.com/sh/217f38amms4qz2q/AADUe5DMMwJ0oBtbo8oz73Zia?dl=0" style="box-sizing: border-box\; color: rgb(5\, 89\, 158)\; text-decoration: none\;">https://www.dropbox.com/sh/217f38amms4qz2q/AADUe5DMMwJ0oBt bo8oz73Zia?</a></p>\n\n<p style="font-size: 16px\; box-sizing: border-box\; margin: 0px 0px 10px\; caret-color: rgb(28\, 28\, 28)\; color: rgb(28\, 28\, 28)\; font-family: Helvetica\, Verdana\, Arial\, sans-serif\;"><a href="https://www.dropbox.com/sh/217f38amms4qz2q/AADUe5DMMwJ0oBtbo8oz73Zia?dl=0" style="box-sizing: border-box\; color: rgb(5\, 89\, 158)\; text-decoration: none\;">dl=0</a></p>\n\n<p style="font-size: 16px\; box-sizing: border-box\; margin: 0px 0px 10px\; caret-color: rgb(28\, 28\, 28)\; color: rgb(28\, 28\, 28)\; font-family: Helvetica\, Verdana\, Arial\, sans-serif\;">[PREQUAL_LINK]</p>\n\n<p style="font-size: 16px\; box-sizing: border-box\; margin: 0px 0px 10px\; caret-color: rgb(28\, 28\, 28)\; color: rgb(28\, 28\, 28)\; font-family: Helvetica\, Verdana\, Arial\, sans-serif\;">Trade Action</p>\n\n<p style="font-size: 16px\; box-sizing: border-box\; margin: 0px 0px 10px\; caret-color: rgb(28\, 28\, 28)\; color: rgb(28\, 28\, 28)\; font-family: Helvetica\, Verdana\, Arial\, sans-serif\;">Click here to review Winter Johnson Group&#39\;s Insurance Requirements and Boilerplate</p>\n\n<p style="font-size: 16px\; box-sizing: border-box\; margin: 0px 0px 10px\; caret-color: rgb(28\, 28\, 28)\; color: rgb(28\, 28\, 28)\; font-family: Helvetica\, Verdana\, Arial\, sans-serif\;">Contract.</p>\n\n<p style="font-size: 16px\; box-sizing: border-box\; margin: 0px 0px 10px\; caret-color: rgb(28\, 28\, 28)\; color: rgb(28\, 28\, 28)\; font-family: Helvetica\, Verdana\, Arial\, sans-serif\;">Click Submit to acknowledge you have reviewed the project scope\, Winter Johnson</p>\n\n<p style="font-size: 16px\; box-sizing: border-box\; margin: 0px 0px 10px\; caret-color: rgb(28\, 28\, 28)\; color: rgb(28\, 28\, 28)\; font-family: Helvetica\, Verdana\, Arial\, sans-serif\;">Group&#39\;s Insurance Requirements\, and Winter&#39\;s Boilerplate</p>\n\n<p style="font-size: 16px\; box-sizing: border-box\; margin: 0px 0px 10px\; caret-color: rgb(28\, 28\, 28)\; color: rgb(28\, 28\, 28)\; font-family: Helvetica\, Verdana\, Arial\, sans-serif\;">Contract.</p>\n\n<p style="font-size: 16px\; box-sizing: border-box\; margin: 0px 0px 10px\; caret-color: rgb(28\, 28\, 28)\; color: rgb(28\, 28\, 28)\; font-family: Helvetica\, Verdana\, Arial\, sans-serif\;">If you do not wish to receive further invitations to bid from The Winter</p>\n\n<p style="font-size: 16px\; box-sizing: border-box\; margin: 0px 0px 10px\; caret-color: rgb(28\, 28\, 28)\; color: rgb(28\, 28\, 28)\; font-family: Helvetica\, Verdana\, Arial\, sans-serif\;">Johnson Group Company\, unsubscribe.</p>\n\n<p style="font-size: 16px\; box-sizing: border-box\; margin: 0px 0px 10px\; caret-color: rgb(28\, 28\, 28)\; color: rgb(28\, 28\, 28)\; font-family: Helvetica\, Verdana\, Arial\, sans-serif\;">Click here to register for a virtual (Zoom) Winter Johnson</p>\n\n<p style="font-size: 16px\; box-sizing: border-box\; margin: 0px\; padding-bottom: 0px\; caret-color: rgb(28\, 28\, 28)\; color: rgb(28\, 28\, 28)\; font-family: Helvetica\, Verdana\, Arial\, sans-serif\;">Group Pre-Proposal Open House Call</p>\n
LOCATION:
UID:e.9342.1603
SEQUENCE:3
DTSTAMP:20260422T211744Z
URL:http://georgiahcaga.memberzone.com/events/details/invitation-to-bid-project-review-call-with-winter-construction-1603
END:VEVENT

END:VCALENDAR
