BEGIN:VCALENDAR
VERSION:2.0
PRODID:-//ChamberMaster//Event Calendar 2.0//EN
METHOD:PUBLISH
X-PUBLISHED-TTL:P3D
REFRESH-INTERVAL:P3D
CALSCALE:GREGORIAN
BEGIN:VEVENT
DTSTART:20230117T220000Z
DTEND:20230117T220000Z
X-MICROSOFT-CDO-ALLDAYEVENT:FALSE
SUMMARY:Juneau Construction Company/ MEET THE PRIME NETWORKING EVENT
DESCRIPTION:Please join Juneau Construction Company for an in-person networking event focused on growing our small\, minority. women and disadvantaged business relationships. Learn more about Juneau and our upcoming project opportunities\, get prequalified with us and meet our team.
X-ALT-DESC;FMTTYPE=text/html:Please join Juneau Construction Company for an in-person networking event focused on growing our small\, minority. women and disadvantaged business relationships. Learn more about Juneau and our upcoming project opportunities\, get prequalified with us and meet our team.&nbsp\;
LOCATION:Juneau Training Room. 210 Interstate North Pkwy SE Suit 700
UID:e.9342.1699
SEQUENCE:3
DTSTAMP:20260421T160636Z
URL:http://georgiahcaga.memberzone.com/events/details/juneau-construction-company-meet-the-prime-networking-event-1699
END:VEVENT

END:VCALENDAR
