BEGIN:VCALENDAR
VERSION:2.0
PRODID:-//ChamberMaster//Event Calendar 2.0//EN
METHOD:PUBLISH
X-PUBLISHED-TTL:P3D
REFRESH-INTERVAL:P3D
CALSCALE:GREGORIAN
BEGIN:VEVENT
DTSTART:20220305T230000Z
DTEND:20220306T030000Z
X-MICROSOFT-CDO-ALLDAYEVENT:FALSE
SUMMARY:Lanzamiento del libro: Betty Palomino "De la tragedia al éxito"
DESCRIPTION:Conoce las adversidades que han puesto a prueba a Betty Palomino y las victorias que le han permitido convertirse en una mujer exitosa. Madre de una maravillosa familia y l der de las mejores contratistas de techado en Atlanta.\n\n\nREG STRESE AQU
X-ALT-DESC;FMTTYPE=text/html:<div class="structured-content-rich-text structured-content__module l-align-left l-mar-vert-6 l-sm-mar-vert-4 text-body-medium" style="margin: 30px 0px\; padding: 0px\; font-size: 14.9333px\; line-height: 1.25rem\; text-rendering: optimizelegibility\; color: rgb(57\, 54\, 79)\; font-family: &quot\;Neue Plak&quot\;\, -apple-system\, BlinkMacSystemFont\, Roboto\, &quot\;Helvetica Neue&quot\;\, Helvetica\, Tahoma\, Arial\, sans-serif\; letter-spacing: 0.5px\;">\n<p style="margin: 0px\; padding: 0px\; color: rgb(111\, 114\, 135)\; font-size: 16px\; line-height: 1.5rem\;"><span style="color:#000000\;"><span style="font-size:18px\;"><span style="font-family:tahoma\;"><span style="font-weight: 700\; padding-top: 0px\;">Conoce las adversidades que&nbsp\;han puesto a prueba a Betty Palomino&nbsp\;y las victorias que le&nbsp\;han permitido convertirse en una mujer exitosa. Madre de una maravillosa familia y l&iacute\;der de las mejores contratistas de techado en Atlanta.</span></span></span></span></p>\n</div>\n\n<div class="structured-content-video structured-content__module l-mar-vert-6 l-sm-mar-vert-4 text-body-medium" style="margin: 30px 0px\; padding: 0px 0px 250.375px\; font-size: 14.9333px\; line-height: 1.25rem\; position: relative\; width: 447.109px\; color: rgb(57\, 54\, 79)\; font-family: &quot\;Neue Plak&quot\;\, -apple-system\, BlinkMacSystemFont\, Roboto\, &quot\;Helvetica Neue&quot\;\, Helvetica\, Tahoma\, Arial\, sans-serif\; letter-spacing: 0.5px\;"><a href="https://bit.ly/BettyPalomino"><strong>REG&Iacute\;STRESE AQU&Iacute\;</strong></a></div>\n
LOCATION:The Grand Ivy Point\, 302 Satellite Blvd NE 302 Satellite Boulevard Northeast Suwanee\, GA 30024
UID:e.9342.1620
SEQUENCE:3
DTSTAMP:20260422T100703Z
URL:http://georgiahcaga.memberzone.com/events/details/lanzamiento-del-libro-betty-palomino-de-la-tragedia-al-&#233;xito-1620
END:VEVENT

END:VCALENDAR
