BEGIN:VCALENDAR
VERSION:2.0
PRODID:-//ChamberMaster//Event Calendar 2.0//EN
METHOD:PUBLISH
X-PUBLISHED-TTL:P3D
REFRESH-INTERVAL:P3D
CALSCALE:GREGORIAN
BEGIN:VEVENT
DTSTART:20220330T210000Z
DTEND:20220331T000000Z
X-MICROSOFT-CDO-ALLDAYEVENT:FALSE
SUMMARY:Latinas en Construcción Golf Clinic
DESCRIPTION:Our Second Latinas en Construcci n Golf Clinic is here. Join us!\n\n \n\nThe Latinas en Construcci n Golf Clinic is an activity for women who make a living in the construction sector in Georgia\, sponsored by Rays Stairs.\n\n \n\nWhat do we offer?\n\n \n\nStarting March 23 and every Wednesday\, we will meet at Top Golf in Alpharetta for six weeks to receive classes in small groups of 6 participants\, thus allowing more personalized attention.
X-ALT-DESC;FMTTYPE=text/html:<span style="font-size:22px\;"><span style="font-family:tahoma\;"><span style="color:black\;">Our Second<strong> Latinas en Construcci&oacute\;n Golf Clinic</strong> is here. Join us!</span><br />\n&nbsp\;<br />\n<span style="color:black\;">The&nbsp\;<strong>Latinas en Construcci&oacute\;n Golf Clinic</strong> is an activity for women who make a living in the construction sector in Georgia\, sponsored by&nbsp\;<strong><em>Rays Stairs</em></strong>.</span><br />\n&nbsp\;<br />\n<strong><span style="color:black\;">What do we offer?</span></strong><br />\n&nbsp\;<br />\n<span style="color:black\;">Starting March 23 and every Wednesday\, we will meet at&nbsp\;<strong>Top Golf</strong>&nbsp\;in Alpharetta for six weeks to receive classes in small groups of 6 participants\, thus allowing more personalized attention.</span></span></span>
LOCATION:Location: Alpharetta Top Golf 10900 Westside Pkwy\, Alpharetta\, GA\, 30009 Day: Every Wednesday\, from March 23 Time: 5:00 p.m. Join us! The best way to get ready for our GHCA Golf Tournament 2022 is on May 13 at Bear's Best!
UID:e.9342.1646
SEQUENCE:3
DTSTAMP:20260422T100554Z
URL:http://georgiahcaga.memberzone.com/events/details/latinas-en-construccion-golf-clinic-03-30-2022-1646
END:VEVENT

END:VCALENDAR
