BEGIN:VCALENDAR
VERSION:2.0
PRODID:-//ChamberMaster//Event Calendar 2.0//EN
METHOD:PUBLISH
X-PUBLISHED-TTL:P3D
REFRESH-INTERVAL:P3D
CALSCALE:GREGORIAN
BEGIN:VEVENT
DTSTART:20220523T210000Z
DTEND:20220524T000000Z
X-MICROSOFT-CDO-ALLDAYEVENT:FALSE
SUMMARY:Latinas en Construccion Golf Clinic/ last session
DESCRIPTION:
X-ALT-DESC;FMTTYPE=text/html:
LOCATION:Top Golf Alpharetta
UID:e.9342.1668
SEQUENCE:3
DTSTAMP:20260422T044841Z
URL:http://georgiahcaga.memberzone.com/events/details/latinas-en-construccion-golf-clinic-last-session-1668
END:VEVENT

END:VCALENDAR
