BEGIN:VCALENDAR
VERSION:2.0
PRODID:-//ChamberMaster//Event Calendar 2.0//EN
METHOD:PUBLISH
X-PUBLISHED-TTL:P3D
REFRESH-INTERVAL:P3D
CALSCALE:GREGORIAN
BEGIN:VEVENT
DTSTART:20220526T220000Z
DTEND:20220526T231500Z
X-MICROSOFT-CDO-ALLDAYEVENT:FALSE
SUMMARY:Latinas en Construcción / Financial Literacy Seminar
DESCRIPTION:Sam Nguyen\, Wealth Management Specialist from Baker & Associates Team will guide you to make the best choices: personal financial goals\, 401k\, investments strategies to help manage investment risk\, college funds\, among other key topics.\n\nCome join us for a virtual workshop!\n\nLimited registration!
X-ALT-DESC;FMTTYPE=text/html:<span style="color:#000000\;"><span style="font-size:20px\;"><span style="font-family:tahoma\;">Sam Nguyen\, Wealth Management Specialist from Baker &amp\; Associates Team will guide you to make the best choices: personal financial goals\, 401k\, investments strategies to help manage investment risk\, college funds\, among other key topics.<br />\nCome join us for a virtual workshop!<br />\nLimited registration!</span></span></span>
LOCATION:**VIRTUAL EVENT*** ZOOM LINK: https://us02web.zoom.us/j/88679933632?pwd=UzFMM0t1VGZzeExCWlNMZS9FUHIwQT09 Meeting ID: 886 7993 3632 Passcode: 052622 One tap mobile +16465588656\,\,88679933632#\,\,\,\,*052622# US (New York) +13017158592\,\,88679933632#\,\,\,\,*052622# US (Washington DC) Dial by your location +1 646 558 8656 US (New York) +1 301 715 8592 US (Washington DC) +1 312 626 6799 US (Chicago) +1 669 900 9128 US (San Jose) +1 253 215 8782 US (Tacoma) +1 346 248 7799 US (Houston) Meeting ID: 886 7993 3632 Passcode: 052622 Find your local number: https://us02web.zoom.us/u/k9piTakix
UID:e.9342.1628
SEQUENCE:3
DTSTAMP:20260422T045207Z
URL:http://georgiahcaga.memberzone.com/events/details/latinas-en-construcci&#243;n-financial-literacy-seminar-1628
END:VEVENT

END:VCALENDAR
