BEGIN:VCALENDAR
VERSION:2.0
PRODID:-//ChamberMaster//Event Calendar 2.0//EN
METHOD:PUBLISH
X-PUBLISHED-TTL:P3D
REFRESH-INTERVAL:P3D
CALSCALE:GREGORIAN
BEGIN:VEVENT
DTSTART:20211111T150000Z
DTEND:20211111T160000Z
X-MICROSOFT-CDO-ALLDAYEVENT:FALSE
SUMMARY:Latinas en Construcción - Panel
DESCRIPTION:This event is subject to change\, please check with GHCA staff for details and updates.
X-ALT-DESC;FMTTYPE=text/html:<span style="color: rgb(0\, 0\, 0)\; font-family: Arial\; font-size: 20px\; white-space: pre-wrap\; caret-color: rgb(0\, 0\, 0)\;">This event is subject to change\, please check with GHCA staff for details and updates.</span>
LOCATION:
UID:e.9342.1596
SEQUENCE:3
DTSTAMP:20260422T192554Z
URL:http://georgiahcaga.memberzone.com/events/details/latinas-en-construcci&#243;n-panel-1596
END:VEVENT

END:VCALENDAR
