BEGIN:VCALENDAR
VERSION:2.0
PRODID:-//ChamberMaster//Event Calendar 2.0//EN
METHOD:PUBLISH
X-PUBLISHED-TTL:P3D
REFRESH-INTERVAL:P3D
CALSCALE:GREGORIAN
BEGIN:VEVENT
DTSTART:20220630T220000Z
DTEND:20220701T000000Z
X-MICROSOFT-CDO-ALLDAYEVENT:FALSE
SUMMARY:Latinas en Construcción - Taller sobre prácticas de salud y cuidados de la piel
DESCRIPTION:AMenoni Health Coach Center \n\nInvita a las Latinas en Construcci n a pasar una tarde diferente\, compartiendo entre amiga mientras aprenden las mejores pr cticas de salud y cuidados de la piel. \n\nNuestra propuesta es sencilla pero atractiva: Les proponemos hacer un espacio dentro de su complicada agenda para dedicarse un tiempo a ustedes mismas\, a relajarse y aprender tips para ayudar a su cuerpo a mantenerse en forma.  Todo esto mientras ampl as tu red de contactos y disfrutas de una amena velada!
X-ALT-DESC;FMTTYPE=text/html:<span style="font-size:22px\;"><span style="font-family:tahoma\;"><span style="color:#000000\;"><em><strong>AMenoni Health Coach Center</strong></em>&nbsp\;<br />\nInvita a las <strong>Latinas en Construcci&oacute\;n</strong> a pasar una tarde diferente\, compartiendo entre amiga mientras aprenden las mejores pr&aacute\;cticas de salud y cuidados de la piel.&nbsp\;<br />\nNuestra propuesta es sencilla pero atractiva: Les proponemos hacer un espacio dentro de su complicada agenda para dedicarse un tiempo a ustedes mismas\, a relajarse y aprender tips para ayudar a su cuerpo a mantenerse en forma. &iexcl\;Todo esto mientras ampl&iacute\;as tu red de contactos y disfrutas de una amena velada!</span></span></span>
LOCATION:Conference Room\, Lobby
UID:e.9342.1674
SEQUENCE:3
DTSTAMP:20260422T044512Z
URL:http://georgiahcaga.memberzone.com/events/details/latinas-en-construcci&#243;n-taller-sobre-pr&#225;cticas-de-salud-y-cuidados-de-la-piel-1674
END:VEVENT

END:VCALENDAR
