BEGIN:VCALENDAR
VERSION:2.0
PRODID:-//ChamberMaster//Event Calendar 2.0//EN
METHOD:PUBLISH
X-PUBLISHED-TTL:P3D
REFRESH-INTERVAL:P3D
CALSCALE:GREGORIAN
BEGIN:VEVENT
DTSTART:20240118T220000Z
DTEND:20240120T010000Z
X-MICROSOFT-CDO-ALLDAYEVENT:FALSE
SUMMARY:LEGAL & LAW NETWORKING WORKSHOP / JAN 18th
DESCRIPTION:Learn to protect your small business and network with others to grow your business. Attend this Latinas Rise / Thompson Hine great workshop where experts will advise your business on legal protection and network to grow your business with other attendees. \n\nRegistration and additional details in the link:\n\nhttps://www.eventbrite.com/e/legal-law-networking-workshop-sponsored-by-thompson-hine-tickets-788217889927?aff=oddtdtcreator
X-ALT-DESC;FMTTYPE=text/html:Learn to protect your small business and network with others to grow your business. Attend this Latinas Rise / Thompson Hine great workshop where experts will advise your business on legal protection and network to grow your business with other attendees.&nbsp\;<br />\nRegistration and additional details in the link:<br />\n<a href="https://www.eventbrite.com/e/legal-law-networking-workshop-sponsored-by-thompson-hine-tickets-788217889927?aff=oddtdtcreator">https://www.eventbrite.com/e/legal-law-networking-workshop-sponsored-by-thompson-hine-tickets-788217889927?aff=oddtdtcreator</a>
LOCATION:
UID:e.9342.1781
SEQUENCE:3
DTSTAMP:20260420T055144Z
URL:http://georgiahcaga.memberzone.com/events/details/legal-law-networking-workshop-jan-18th-1781
END:VEVENT

END:VCALENDAR
