BEGIN:VCALENDAR
VERSION:2.0
PRODID:-//ChamberMaster//Event Calendar 2.0//EN
METHOD:PUBLISH
X-PUBLISHED-TTL:P3D
REFRESH-INTERVAL:P3D
CALSCALE:GREGORIAN
BEGIN:VEVENT
DTSTART:20230829T140000Z
DTEND:20230830T033000Z
X-MICROSOFT-CDO-ALLDAYEVENT:FALSE
SUMMARY:Let's Build Better Together Diversity Dialogue Series. H.J. RUSELL
DESCRIPTION:Join us virtually for H. J. Russell & Company's Diversity Dialogue Series\, "Let's Build Better Together\," on Tuesday\, August 29\, 2023 at 10 am ET.  Come to be inspired and empowered by Darius Broughton's message about how we can all build better\, together. He will motivate you to stay in the ring in this space that requires thoughtful perspective\, representation\, tough conversations\, and the support of all stakeholders to really make a difference. \n\n \n\n \n\nAt Russell\, we believe in embracing diversity\, equity\, and inclusion enables us to innovate and generate stronger businesses and communities. We empower each stakeholder to bring their authentic self to the table. Celebrating what makes each of us unique and accepting our differences is our culture and key to our success. Register today\, and pull up a seat!
X-ALT-DESC;FMTTYPE=text/html:<div style="margin: 0px\; padding: 0px\; color: rgb(255\, 255\, 255)\; font-family: Arial\, Helvetica\, sans-serif\; font-size: 12px\; background-color: rgb(53\, 52\, 52)\;"><span style="font-size: 12pt\;" title="">Join us virtually for H. J. Russell &amp\; Company&#39\;s Diversity Dialogue Series\, &quot\;Let&#39\;s Build Better Together\,&quot\; on&nbsp\;Tuesday\, August 29\, 2023 at 10 am ET.&nbsp\;&nbsp\;Come to be inspired and empowered by Darius Broughton&#39\;s message about how we can all build better\, together. He will motivate you to stay in the ring in this space that requires thoughtful perspective\, representation\, tough conversations\, and the support of all stakeholders to really make a difference.&nbsp\;</span></div>\n\n<div style="margin: 0px\; padding: 0px\; color: rgb(255\, 255\, 255)\; font-family: Arial\, Helvetica\, sans-serif\; font-size: 12px\; background-color: rgb(53\, 52\, 52)\;">&nbsp\;</div>\n\n<div style="margin: 0px\; padding: 0px\; color: rgb(255\, 255\, 255)\; font-family: Arial\, Helvetica\, sans-serif\; font-size: 12px\; background-color: rgb(53\, 52\, 52)\;">&nbsp\;</div>\n\n<div style="margin: 0px\; padding: 0px\; color: rgb(255\, 255\, 255)\; font-family: Arial\, Helvetica\, sans-serif\; font-size: 12px\; background-color: rgb(53\, 52\, 52)\;"><span style="font-size: 12pt\;" title="">At Russell\, we believe in embracing diversity\, equity\, and inclusion enables us to innovate and generate stronger businesses and communities. We empower each stakeholder to bring their authentic self to the table. Celebrating what makes each of us unique and accepting our differences is our culture and key to our success. Register today\, and pull up a seat!</span></div>\n
LOCATION:Virtual
UID:e.9342.1751
SEQUENCE:3
DTSTAMP:20260420T192902Z
URL:http://georgiahcaga.memberzone.com/events/details/let-s-build-better-together-diversity-dialogue-series-h-j-rusell-1751
END:VEVENT

END:VCALENDAR
