BEGIN:VCALENDAR
VERSION:2.0
PRODID:-//ChamberMaster//Event Calendar 2.0//EN
METHOD:PUBLISH
X-PUBLISHED-TTL:P3D
REFRESH-INTERVAL:P3D
CALSCALE:GREGORIAN
BEGIN:VEVENT
DTSTART:20240424T220000Z
DTEND:20240425T003000Z
X-MICROSOFT-CDO-ALLDAYEVENT:FALSE
SUMMARY:Level Up Your Networking Skills/ Exclusive for Women
DESCRIPTION:Latinas in Construction in partnership with Latinas Rise presents: Level Up Your Networking Skills.  \n\nJoin us for a dynamic workshop focused on maximizing the impact of networking to propel your brand forward.\n\nThis interactive session will dive into essential strategies for building robust professional networks and unlocking new business opportunities.\n\nGain invaluable insights and practical tips to strengthen your networking skills and broaden your circle of influence.\n\nDon't miss this opportunity to take your entrepreneurial journey to new heights!
X-ALT-DESC;FMTTYPE=text/html:<span style="font-size:24px\;"><span style="font-family:tahoma\;"><span style="color:#000000\;"><strong>Latinas in Construction</strong> in partnership with <strong>Latinas Rise</strong> presents: <strong><em>Level Up Your Networking Skills</em></strong>.&nbsp\;&nbsp\;</span></span></span><br />\n<span style="font-size:24px\;"><span style="font-family:tahoma\;"><span style="color:#000000\;">Join us for a dynamic workshop focused on maximizing the impact of networking to propel your brand forward.<br />\nThis interactive session will dive into essential strategies for building robust professional networks and unlocking new business opportunities.<br />\nGain invaluable insights and practical tips to strengthen your networking skills and broaden your circle of influence.<br />\nDon&#39\;t miss this opportunity to take your entrepreneurial journey to new heights!</span></span></span><br />\n&nbsp\;
LOCATION:DGS Group / 1263 Roswell Rd. Marietta\, GA 30062
UID:e.9342.1826
SEQUENCE:3
DTSTAMP:20260420T004841Z
URL:http://georgiahcaga.memberzone.com/events/details/level-up-your-networking-skills-exclusive-for-women-1826
END:VEVENT

END:VCALENDAR
