BEGIN:VCALENDAR
VERSION:2.0
PRODID:-//ChamberMaster//Event Calendar 2.0//EN
METHOD:PUBLISH
X-PUBLISHED-TTL:P3D
REFRESH-INTERVAL:P3D
CALSCALE:GREGORIAN
BEGIN:VEVENT
DTSTART:20231110T160000Z
DTEND:20231110T183000Z
X-MICROSOFT-CDO-ALLDAYEVENT:FALSE
SUMMARY:Lunch and learn with SRS
DESCRIPTION:
X-ALT-DESC;FMTTYPE=text/html:
LOCATION:SUPERIOR DISTRIBUTION - LITHIA SPRINGS 2285 Sweetwater Industrial Blvd Lithia Springs\, GA 30122
UID:e.9342.1770
SEQUENCE:3
DTSTAMP:20260420T125235Z
URL:http://georgiahcaga.memberzone.com/events/details/lunch-and-learn-with-srs-1770
END:VEVENT

END:VCALENDAR
