BEGIN:VCALENDAR
VERSION:2.0
PRODID:-//ChamberMaster//Event Calendar 2.0//EN
METHOD:PUBLISH
X-PUBLISHED-TTL:P3D
REFRESH-INTERVAL:P3D
CALSCALE:GREGORIAN
BEGIN:VEVENT
DTSTART:20180904T150000Z
DTEND:20180904T170000Z
X-MICROSOFT-CDO-ALLDAYEVENT:FALSE
SUMMARY:Lunch & Learn with Northwestern Mutual
DESCRIPTION:En tres sencillos pasos\, f cilmente explicados por Juan Diego Ram rez\, asesor Financiero de Northwestern Mutual\, usted podr  tomar decisiones financieras que cambiar n su vida\, la de su empresa\, su familia y le permitir  disfrutar de un mejor futuro.\n\n\n\nLa Asociaci n de Construcci n Hispana de Georgia los invita al evento: Salud Financiera en 3 pasos!\n\n\n\nEl almuerzo est  incluido.\n\n\n\nGratis si se registra en https://bit.ly/2MlGNJh\n\n$10 a la entrada.
X-ALT-DESC;FMTTYPE=text/html:<span style="color: rgb(29\, 33\, 41)\; font-family: Helvetica\, Arial\, sans-serif\; font-size: 14px\;">En tres sencillos pasos\, f&aacute\;cilmente explicados por Juan Diego Ram&iacute\;rez\, asesor Financiero de Northwestern Mutual\, usted podr&aacute\; tomar decisiones financieras que cambiar&aacute\;n su vida\, la de su empresa\, su familia y le permitir&aacute\; disfrutar de un mejor futuro.</span><br style="color: rgb(29\, 33\, 41)\; font-family: Helvetica\, Arial\, sans-serif\; font-size: 14px\;" />\n<br style="color: rgb(29\, 33\, 41)\; font-family: Helvetica\, Arial\, sans-serif\; font-size: 14px\;" />\n<span style="color: rgb(29\, 33\, 41)\; font-family: Helvetica\, Arial\, sans-serif\; font-size: 14px\;">La Asociaci&oacute\;n de Construcci&oacute\;n Hispana de Georgia los invita al evento: Salud Financiera en 3 pasos!</span><br style="color: rgb(29\, 33\, 41)\; font-family: Helvetica\, Arial\, sans-serif\; font-size: 14px\;" />\n<br style="color: rgb(29\, 33\, 41)\; font-family: Helvetica\, Arial\, sans-serif\; font-size: 14px\;" />\n<span style="color: rgb(29\, 33\, 41)\; font-family: Helvetica\, Arial\, sans-serif\; font-size: 14px\;">El almuerzo est&aacute\; incluido.</span><br style="color: rgb(29\, 33\, 41)\; font-family: Helvetica\, Arial\, sans-serif\; font-size: 14px\;" />\n<br style="color: rgb(29\, 33\, 41)\; font-family: Helvetica\, Arial\, sans-serif\; font-size: 14px\;" />\n<span style="color: rgb(29\, 33\, 41)\; font-family: Helvetica\, Arial\, sans-serif\; font-size: 14px\;">Gratis si se registra en&nbsp\;</span><a data-lynx-mode="hover" data-lynx-uri="https://l.facebook.com/l.php?u=https%3A%2F%2Fbit.ly%2F2MlGNJh&amp\;h=AT00PniJhvQsQrxtNc_Gr761nSn5FSQ8Uh4EhAEIsHPKun-jY2mUTqMr1pQaUaYkDUTjMUuc1xvxb69NSyJOeYJJYG3CGOUPVqJv9aDIFOXlUXkK9RfjZJlOllCqXF_WOQ" href="https://bit.ly/2MlGNJh" rel="nofollow noopener" style="color: rgb(54\, 88\, 153)\; cursor: pointer\; text-decoration-line: none\; font-family: Helvetica\, Arial\, sans-serif\; font-size: 14px\;" target="_blank">https://bit.ly/2MlGNJh</a><br style="color: rgb(29\, 33\, 41)\; font-family: Helvetica\, Arial\, sans-serif\; font-size: 14px\;" />\n<span style="color: rgb(29\, 33\, 41)\; font-family: Helvetica\, Arial\, sans-serif\; font-size: 14px\;">$10 a la entrada.</span>
LOCATION:Northwestern Mutual\, Phipps Tower 3438 Peachtree Road\, NE Phips Tower\, Suite 1200 Atlanta\, GA 303026
UID:e.9342.1347
SEQUENCE:3
DTSTAMP:20260426T031234Z
URL:http://georgiahcaga.memberzone.com/events/details/lunch-learn-with-northwestern-mutual-1347
END:VEVENT

END:VCALENDAR
