BEGIN:VCALENDAR
VERSION:2.0
PRODID:-//ChamberMaster//Event Calendar 2.0//EN
METHOD:PUBLISH
X-PUBLISHED-TTL:P3D
REFRESH-INTERVAL:P3D
CALSCALE:GREGORIAN
BEGIN:VEVENT
DTSTART:20211020T190000Z
DTEND:20211020T210000Z
X-MICROSOFT-CDO-ALLDAYEVENT:FALSE
SUMMARY:McCarthy Supplier Diversity Day
DESCRIPTION:SUPPLIER DIVERSITY DAY\nOctober 20th\, 2021 | 3:00 p.m.   5:00 p.m.\n\n\n\nMcCarthy Building Companies\n\n\n\n2727 Paces Ferry Road SE\, Building 2- Suite 1600\n\nAtlanta\, GA 30339\n\n\n\n \n\nWe invite you to join us for a networking mixer\n\nto celebrate small and diverse business\n\npartners for Supplier Diversity Day!\n\n\n\nDrinks and light appetizers will be provided. \n\n\n\nSPACE IS LIMITED\, SO BE SURE TO REGISTER SOON!\n\n\n\nRSVP
X-ALT-DESC;FMTTYPE=text/html:<span style="font-size:20px\;"><font face="Helvetica"><span style="caret-color: rgb(251\, 251\, 64)\;">SUPPLIER DIVERSITY DAY</span></font></span>\n<p style="margin: 0px\; font-stretch: normal\; font-size: 23.5px\; line-height: normal\; font-family: Helvetica\; color: rgb(251\, 251\, 64)\;"><span style="font-size:20px\;"><span style="color:#000000\;">October 20th\, 2021 | 3:00 p.m. &ndash\; 5:00 p.m.</span></span></p>\n\n<p style="margin: 0px\; font-stretch: normal\; font-size: 21px\; line-height: normal\; font-family: Helvetica\; color: rgb(251\, 251\, 64)\;"><br />\n<span style="font-size:20px\;"><span style="color:#000000\;">McCarthy Building Companies</span></span></p>\n\n<p style="margin: 0px\; font-stretch: normal\; font-size: 16px\; line-height: normal\; font-family: Helvetica\; color: rgb(251\, 251\, 64)\;"><br />\n<span style="font-size:20px\;"><span style="color:#000000\;">2727 Paces Ferry Road SE\, Building 2- Suite 1600</span></span></p>\n\n<p style="margin: 0px\; font-stretch: normal\; font-size: 16px\; line-height: normal\; font-family: Helvetica\; color: rgb(251\, 251\, 64)\;"><span style="font-size:20px\;"><span style="color:#000000\;">Atlanta\, GA 30339</span></span><br />\n<br />\n&nbsp\;</p>\n\n<p style="margin: 0px\; font-stretch: normal\; font-size: 18.5px\; line-height: normal\; font-family: Helvetica\; color: rgb(255\, 255\, 255)\;"><span style="font-size:20px\;"><span style="color:#000000\;">We invite you to join us for a networking mixer</span></span></p>\n\n<p style="margin: 0px\; font-stretch: normal\; font-size: 18.5px\; line-height: normal\; font-family: Helvetica\; color: rgb(255\, 255\, 255)\;"><span style="font-size:20px\;"><span style="color:#000000\;">to celebrate small and diverse business</span></span></p>\n\n<p style="margin: 0px\; font-stretch: normal\; font-size: 18.5px\; line-height: normal\; font-family: Helvetica\; color: rgb(255\, 255\, 255)\;"><span style="font-size:20px\;"><span style="color:#000000\;">partners for Supplier Diversity Day!</span></span></p>\n\n<p style="margin: 0px\; font-stretch: normal\; font-size: 15px\; line-height: normal\; font-family: Helvetica\; color: rgb(255\, 255\, 255)\;"><br />\n<span style="font-size:20px\;"><span style="color:#000000\;">Drinks and light appetizers will be provided.&nbsp\;<br />\n<br />\nSPACE IS LIMITED\, SO BE SURE TO REGISTER SOON!<br />\n<br />\n<a href="https://www.cognitoforms.com/McCarthy/RSVPForMcCarthySupplierDiversityDayOpenHouseAtlanta10202021">RSVP</a></span></span><br />\n&nbsp\;</p>\n
LOCATION:
UID:e.9342.1601
SEQUENCE:3
DTSTAMP:20260422T223722Z
URL:http://georgiahcaga.memberzone.com/events/details/mccarthy-supplier-diversity-day-1601
END:VEVENT

END:VCALENDAR
