BEGIN:VCALENDAR
VERSION:2.0
PRODID:-//ChamberMaster//Event Calendar 2.0//EN
METHOD:PUBLISH
X-PUBLISHED-TTL:P3D
REFRESH-INTERVAL:P3D
CALSCALE:GREGORIAN
BEGIN:VEVENT
DTSTART:20200402T220000Z
DTEND:20200403T003000Z
X-MICROSOFT-CDO-ALLDAYEVENT:FALSE
SUMMARY:Meet & Greet - 2nd ~ Postponed ~
DESCRIPTION:- Postponed Event -\n\n\n\nYou can call GHCA main office 404.229.80.70 to find out details of the event.
X-ALT-DESC;FMTTYPE=text/html:<span style="font-size:20px\;"><strong>- Postponed Event -</strong></span><br />\n<br />\n<span style="font-size: 20px\;">You can call GHCA main office 404.229.80.70 to find out details of the event.&nbsp\;</span><br />\n&nbsp\;
LOCATION:TBD
UID:e.9342.1465
SEQUENCE:3
DTSTAMP:20260424T162910Z
URL:http://georgiahcaga.memberzone.com/events/details/meet-greet-2nd-postponed-1465
END:VEVENT

END:VCALENDAR
