BEGIN:VCALENDAR
VERSION:2.0
PRODID:-//ChamberMaster//Event Calendar 2.0//EN
METHOD:PUBLISH
X-PUBLISHED-TTL:P3D
REFRESH-INTERVAL:P3D
CALSCALE:GREGORIAN
BEGIN:VEVENT
DTSTART:20230621T213000Z
DTEND:20230622T000000Z
X-MICROSOFT-CDO-ALLDAYEVENT:FALSE
SUMMARY:Meet & Greet at Batson-Cook
DESCRIPTION:Great weather... Great location... Great networking! On June 21st\, your main activity will be joining us at the Batson-Cook Headquarters for our Summer Meet & Greet! \n\n \n\nOur friends from Batson-Cook are thrilled to have you there\, and as usual\, this Meet & Greet will be one for the books! They want to celebrate us and all the amazing things we\, as the GHCA community\, can build together! \n\n \n\nGot a sweet tooth? No problem! Our friends from Gibson Landscape Services got you covered. The only problem will be which dessert to choose! \n\n \n\nOur Meet & Greets offer excellent opportunities to meet and integrate with other members who are part of the Hispanic construction sector in Georgia\, representing all the construction trades and services!\n\n \n\nMingle with contractors\, subcontractors\, suppliers\, and industry professionals in a relaxed and fun environment.\n\n \n\n You still can be part of it! Register now\, we want to see you there!
X-ALT-DESC;FMTTYPE=text/html:<div style="color: rgb(46\, 47\, 47)\; font-family: Verdana\, Geneva\, sans-serif\; font-size: 14px\; white-space: pre-wrap\; text-align: justify\;"><span style="font-size:24px\;"><span style="color:#000000\;"><span style="font-family:tahoma\;">Great weather... Great location... Great networking! On June<span style="font-weight: bold\;"> 21st</span>\, your main activity will be joining us at the <span style="font-weight: bold\;">Batson-Cook Headquarters </span>for our Summer <span style="font-weight: bold\; font-style: italic\;">Meet &amp\; Greet</span>! </span></span></span></div>\n\n<div style="color: rgb(46\, 47\, 47)\; font-family: Verdana\, Geneva\, sans-serif\; font-size: 14px\; white-space: pre-wrap\; text-align: justify\;"><span style="font-size:24px\;"><span style="color:#000000\;"><span style="font-family:tahoma\;">&nbsp\;</span></span></span></div>\n\n<div style="color: rgb(46\, 47\, 47)\; font-family: Verdana\, Geneva\, sans-serif\; font-size: 14px\; white-space: pre-wrap\; text-align: justify\;"><span style="font-size:24px\;"><span style="color:#000000\;"><span style="font-family:tahoma\;">Our friends from <span style="font-weight: bold\;">Batson-Cook </span>are thrilled to have you there\, and as usual\, this <span style="font-style: italic\; font-weight: bold\;">Meet &amp\; Greet</span> will be one for the books! They want to celebrate us and all the amazing things we\, as the <span style="font-weight: bold\;">GHCA</span> community\, can build together! </span></span></span></div>\n\n<div style="color: rgb(46\, 47\, 47)\; font-family: Verdana\, Geneva\, sans-serif\; font-size: 14px\; white-space: pre-wrap\; text-align: justify\;">&nbsp\;</div>\n\n<div style="color: rgb(46\, 47\, 47)\; font-family: Verdana\, Geneva\, sans-serif\; font-size: 14px\; white-space: pre-wrap\; text-align: justify\;"><span style="font-size:24px\;"><span style="color:#000000\;"><span style="font-family:tahoma\;">Got a sweet tooth? No problem! Our friends from <span style="font-weight: bold\;">Gibson Landscape Services </span>got you covered. The only problem will be which dessert to choose! </span></span></span></div>\n\n<div style="color: rgb(46\, 47\, 47)\; font-family: Verdana\, Geneva\, sans-serif\; font-size: 14px\; white-space: pre-wrap\; text-align: justify\;"><span style="font-size:24px\;"><span style="color:#000000\;"><span style="font-family:tahoma\;">&nbsp\;</span></span></span></div>\n\n<div style="color: rgb(46\, 47\, 47)\; font-family: Verdana\, Geneva\, sans-serif\; font-size: 14px\; white-space: pre-wrap\; text-align: justify\;"><span style="font-size:24px\;"><span style="color:#000000\;"><span style="text-align: justify\; white-space: pre-wrap\; font-family: Tahoma\, Geneva\, sans-serif\;">Our </span><span style="text-align: justify\; white-space: pre-wrap\; font-family: Tahoma\, Geneva\, sans-serif\; font-weight: bold\; font-style: italic\;">Meet &amp\; Greets</span><span style="text-align: justify\; white-space: pre-wrap\; font-family: Tahoma\, Geneva\, sans-serif\;"> offer excellent opportunities to meet and integrate with other members who are part of the Hispanic construction sector in Georgia\, representing all the construction trades and services!</span></span></span></div>\n\n<div style="color: rgb(46\, 47\, 47)\; font-family: Verdana\, Geneva\, sans-serif\; font-size: 14px\; white-space: pre-wrap\; text-align: justify\;">&nbsp\;</div>\n\n<div style="color: rgb(46\, 47\, 47)\; font-family: Verdana\, Geneva\, sans-serif\; font-size: 14px\; white-space: pre-wrap\; text-align: justify\;"><span style="font-size:24px\;"><span style="color:#000000\;"><span style="font-family:tahoma\;">Mingle with contractors\, subcontractors\, suppliers\, and industry professionals in a relaxed and fun environment.</span></span></span></div>\n\n<div style="color: rgb(46\, 47\, 47)\; font-family: Verdana\, Geneva\, sans-serif\; font-size: 14px\; white-space: pre-wrap\; text-align: justify\;">&nbsp\;</div>\n\n<div style="color: rgb(46\, 47\, 47)\; font-family: Verdana\, Geneva\, sans-serif\; font-size: 14px\; white-space: pre-wrap\; text-align: justify\;"><span style="font-size:24px\;"><span style="color:#000000\;"><span style="font-family:tahoma\;">&#65279\;You still can be part of it! Register now\, we want to see you there! </span></span></span></div>\n
LOCATION:2859 Paces Ferry Road SE\, Atlanta\, GA\, 30339 Suite 200
UID:e.9342.1733
SEQUENCE:3
DTSTAMP:20260421T023533Z
URL:http://georgiahcaga.memberzone.com/events/details/meet-greet-at-batson-cook-1733
END:VEVENT

END:VCALENDAR
