BEGIN:VCALENDAR
VERSION:2.0
PRODID:-//ChamberMaster//Event Calendar 2.0//EN
METHOD:PUBLISH
X-PUBLISHED-TTL:P3D
REFRESH-INTERVAL:P3D
CALSCALE:GREGORIAN
BEGIN:VEVENT
DTSTART:20231018T213000Z
DTEND:20231019T000000Z
X-MICROSOFT-CDO-ALLDAYEVENT:FALSE
SUMMARY:Meet & Greet at Brasfield & Gorrie
DESCRIPTION:
X-ALT-DESC;FMTTYPE=text/html:
LOCATION:Brasfield & Gorrie 2999 Circle 75 Parkway\, Atlanta\, GA\, 30339
UID:e.9342.1755
SEQUENCE:3
DTSTAMP:20260420T142621Z
URL:http://georgiahcaga.memberzone.com/events/details/meet-greet-at-brasfield-gorrie-1755
END:VEVENT

END:VCALENDAR
