BEGIN:VCALENDAR
VERSION:2.0
PRODID:-//ChamberMaster//Event Calendar 2.0//EN
METHOD:PUBLISH
X-PUBLISHED-TTL:P3D
REFRESH-INTERVAL:P3D
CALSCALE:GREGORIAN
BEGIN:VEVENT
DTSTART:20240418T213000Z
DTEND:20240419T000000Z
X-MICROSOFT-CDO-ALLDAYEVENT:FALSE
SUMMARY:Meet & Greet at Elite Roofing Supply
DESCRIPTION:Here it comes: Our first 2024 Meet & Greet!\n\nFit some networking into your schedule on April 18th and join us at Elite Roofing Supply\, located in Norcross.\n\nThe best opportunity to mingle with contractors\, subcontractors\, suppliers\, and industry professionals in a relaxed and fun environment.\n\nOur friends from Elite Roofing Supply and GAF are thrilled to have you there and are working very hard to show you what a terrific host they are! \n\nOur Meet & Greets are an excellent opportunity to meet and integrate with other members who are part of the Hispanic construction sector in Georgia\, representing all the construction trades and services!\n\nDon't miss it out! We ll see you there!
X-ALT-DESC;FMTTYPE=text/html:<span style="color:#000000\;"><span style="font-size:22px\;"><span style="font-family:tahoma\;">Here it comes: Our first 2024 Meet &amp\; Greet!<br />\nFit some networking into your schedule on <strong>April 18th&nbsp\;</strong>and join us at <em><strong>Elite Roofing Supply</strong></em>\, located in Norcross.<br />\nThe best opportunity to mingle with contractors\, subcontractors\, suppliers\, and industry professionals in a relaxed and fun environment.<br />\nOur friends from <strong><em>Elite Roofing Supply</em></strong>&nbsp\;and <em><strong>GAF</strong></em> are thrilled to have you there and are working very hard to show you what a terrific host they are!&nbsp\;<br />\nOur <strong>Meet &amp\; Greets</strong> are an excellent opportunity to meet and integrate with other members who are part of the Hispanic construction sector in Georgia\, representing all the construction trades and services!<br />\nDon&#39\;t miss it out! We&acute\;ll see you there!</span></span></span>
LOCATION:Elite Roofing Supply Norcross HQ 3150 Clinton Ct Ste B\, Norcross\, GA 30071
UID:e.9342.1805
SEQUENCE:3
DTSTAMP:20260420T004626Z
URL:http://georgiahcaga.memberzone.com/events/details/meet-greet-at-elite-roofing-supply-1805
END:VEVENT

END:VCALENDAR
