BEGIN:VCALENDAR
VERSION:2.0
PRODID:-//ChamberMaster//Event Calendar 2.0//EN
METHOD:PUBLISH
X-PUBLISHED-TTL:P3D
REFRESH-INTERVAL:P3D
CALSCALE:GREGORIAN
BEGIN:VEVENT
DTSTART:20230302T223000Z
DTEND:20230303T010000Z
X-MICROSOFT-CDO-ALLDAYEVENT:FALSE
SUMMARY:Meet & Greet at Live Oak
DESCRIPTION:Fit some networking into your schedule on March 2nd and join us at the Live Oak Construction Supply Norcross location for the first GHCA Meet & Greet of the year! \n\n\n\nThe best opportunity to mingle with contractors\, subcontractors\, suppliers\, and industry professionals in a relaxed and fun environment.\n\n\n\nOur friends from Live Oak Construction Supply and Husqvarna are thrilled to have you there and are working very hard to show you what a terrific host they are! They even have a theme: Western vibe. So\, if you want to come in your best Western wear\, you can even enter a drawing for prizes! \n\n\n\nOur Meet & Greets are an excellent opportunity to meet and integrate with other members who are part of the Hispanic construction sector in Georgia\, representing all the construction trades and services!\n\nDon't miss it out! We ll see you there!
X-ALT-DESC;FMTTYPE=text/html:<span style="font-size:22px\;"><span style="font-family:tahoma\;"><span style="color:#000000\;">Fit some networking into your schedule on <strong>March 2nd</strong> and join us at the <strong><em>Live Oak Construction Supply </em>Norcross</strong> location for the first <strong>GHCA Meet &amp\; Greet</strong> of the year!&nbsp\;<br />\n<br />\nThe best opportunity to mingle with contractors\, subcontractors\, suppliers\, and industry professionals in a relaxed and fun environment.<br />\n<br />\nOur friends from <strong><em>Live Oak Construction Supply </em></strong>and<strong><em> Husqvarna&nbsp\;</em></strong>are thrilled to have you there and are working very hard to show you what a terrific host they are! They even have a theme: <em>Western vibe</em>. So\, if you want to come in your best Western wear\, you can even enter a drawing for prizes!&nbsp\;<br />\n<br />\nOur Meet &amp\; Greets are an excellent opportunity to meet and integrate with other members who are part of the Hispanic construction sector in Georgia\, representing all the construction trades and services!<br />\nDon&rsquo\;t miss it out! We&acute\;ll see you there!</span></span></span>
LOCATION:4225 Steve Reynolds Blvd. Norcross\, GA 30093
UID:e.9342.1702
SEQUENCE:3
DTSTAMP:20260421T080551Z
URL:http://georgiahcaga.memberzone.com/events/details/meet-greet-at-live-oak-1702
END:VEVENT

END:VCALENDAR
