BEGIN:VCALENDAR
VERSION:2.0
PRODID:-//ChamberMaster//Event Calendar 2.0//EN
METHOD:PUBLISH
X-PUBLISHED-TTL:P3D
REFRESH-INTERVAL:P3D
CALSCALE:GREGORIAN
BEGIN:VEVENT
DTSTART:20220714T213000Z
DTEND:20220715T000000Z
X-MICROSOFT-CDO-ALLDAYEVENT:FALSE
SUMMARY:Meet & Greet at NTR
DESCRIPTION:Get ready for our next Meet & Greet\, full of Summer Vibe!\n\nFit some networking into your schedule on July 14th and join us at the Northside Tool Rentals Doraville location for a unique outdoors networking experience!\n\nOur Meet & Greets are an excellent opportunity to meet and integrate with other members who are part of the Hispanic construction sector in Georgia\, representing all the construction trades and services! This is your opportunity to mingle with contractors\, subcontractors\, suppliers\, and industry professionals in a relaxed and fun environment. \n\nOur partners of Northside Tool Rentals are thrilled to have you at their house! We ll see you there!
X-ALT-DESC;FMTTYPE=text/html:<span style="color:#000000\;"><span style="font-size:22px\;"><span style="font-family:tahoma\;"><span style="background:white\;">Get ready for our next <strong><em>Meet &amp\; Greet</em></strong><span style="font-variant-ligatures:normal\;font-variant-caps:normal\;orphans:2\;text-align:start\;widows:2\;-webkit-text-stroke-width:0px\;text-decoration-thickness:initial\;text-decoration-style:initial\;float:none\;word-spacing:0px\;">\, full of Summer Vibe!</span><br />\n<span style="background:white\;"><span style="font-variant-ligatures:normal\;font-variant-caps:normal\;orphans:2\;text-align:start\;widows:2\;-webkit-text-stroke-width:0px\;text-decoration-thickness:initial\;text-decoration-style:initial\;float:none\;word-spacing:0px\;">Fit some networking into your schedule on&nbsp\;</span><strong style="font-variant-ligatures:normal\;font-variant-caps:normal\;orphans:2\;text-align:start\;widows:2\;-webkit-text-stroke-width:0px\;text-decoration-thickness:initial\;text-decoration-style:initial\;word-spacing:0px\;">July 14<sup>th</sup> </strong>and join us at the&nbsp\;</span><strong style="font-variant-ligatures:normal\;font-variant-caps:normal\;orphans:2\;text-align:start\;widows:2\;-webkit-text-stroke-width:0px\;text-decoration-thickness:initial\;text-decoration-style:initial\;word-spacing:0px\;">Northside Tool Rentals Doraville location</strong>&nbsp\;for a unique outdoors networking experience!</span><br style="font-variant-ligatures:normal\;font-variant-caps:normal\;orphans:2\;text-align:start\;widows:2\;-webkit-text-stroke-width:0px\;text-decoration-thickness:initial\;text-decoration-style:initial\;word-spacing:0px\;" />\n<span style="background:white\;"><span style="font-variant-ligatures:normal\;font-variant-caps:normal\;orphans:2\;text-align:start\;widows:2\;-webkit-text-stroke-width:0px\;text-decoration-thickness:initial\;text-decoration-style:initial\;float:none\;word-spacing:0px\;">Our&nbsp\;</span><strong style="font-variant-ligatures:normal\;font-variant-caps:normal\;orphans:2\;text-align:start\;widows:2\;-webkit-text-stroke-width:0px\;text-decoration-thickness:initial\;text-decoration-style:initial\;word-spacing:0px\;">Meet &amp\; Greets</strong><span style="font-variant-ligatures:normal\;font-variant-caps:normal\;orphans:2\;text-align:start\;widows:2\;-webkit-text-stroke-width:0px\;text-decoration-thickness:initial\;text-decoration-style:initial\;float:none\;word-spacing:0px\;">&nbsp\;are an excellent opportunity to meet and integrate with other members who are part of the Hispanic construction sector in Georgia\, representing all the construction trades and services!</span> This is your opportunity to mingle with contractors\, subcontractors\, suppliers\, and industry professionals in a relaxed and fun environment.&nbsp\;</span><br style="font-variant-ligatures:normal\;font-variant-caps:normal\;orphans:2\;text-align:start\;widows:2\;-webkit-text-stroke-width:0px\;text-decoration-thickness:initial\;text-decoration-style:initial\;word-spacing:0px\;" />\n<span style="background:white\;"><span style="font-variant-ligatures:normal\;font-variant-caps:normal\;orphans:2\;text-align:start\;widows:2\;-webkit-text-stroke-width:0px\;text-decoration-thickness:initial\;text-decoration-style:initial\;float:none\;word-spacing:0px\;">Our partners of&nbsp\;</span><strong style="font-variant-ligatures:normal\;font-variant-caps:normal\;orphans:2\;text-align:start\;widows:2\;-webkit-text-stroke-width:0px\;text-decoration-thickness:initial\;text-decoration-style:initial\;word-spacing:0px\;">Northside Tool Rentals</strong>&nbsp\;are thrilled to have you at their house! We&acute\;ll see you there!</span></span></span></span>
LOCATION:3933 McElroy Road\, Doraville\, GA 30340
UID:e.9342.1633
SEQUENCE:3
DTSTAMP:20260422T010847Z
URL:http://georgiahcaga.memberzone.com/events/details/meet-greet-at-ntr-1633
END:VEVENT

END:VCALENDAR
