BEGIN:VCALENDAR
VERSION:2.0
PRODID:-//ChamberMaster//Event Calendar 2.0//EN
METHOD:PUBLISH
X-PUBLISHED-TTL:P3D
REFRESH-INTERVAL:P3D
CALSCALE:GREGORIAN
BEGIN:VEVENT
DTSTART:20230207T163000Z
DTEND:20230207T173000Z
X-MICROSOFT-CDO-ALLDAYEVENT:FALSE
SUMMARY:MMIP BROWN BAG SERIES
DESCRIPTION:Learn about Georgia Transportation Department.\n\nDOT's Major Mobility Investment Program\, one of the largest transportation programs in the nation\, and the opportunities it can create for your business.
X-ALT-DESC;FMTTYPE=text/html:<span style="color: rgb(34\, 34\, 34)\; font-family: Arial\, Helvetica\, sans-serif\; background-color: rgb(255\, 255\, 255)\; font-size: 12pt\;">Learn about Georgia Transportation Department.</span><br style="color: rgb(34\, 34\, 34)\; font-family: Arial\, Helvetica\, sans-serif\; font-size: small\; background-color: rgb(255\, 255\, 255)\;" />\n<span style="color: rgb(34\, 34\, 34)\; font-family: Arial\, Helvetica\, sans-serif\; background-color: rgb(255\, 255\, 255)\; font-size: 12pt\;">DOT&#39\;s Major Mobility Investment Program\, one of the largest transportation programs in the nation\, and the opportunities it can create for your business.</span>
LOCATION:
UID:e.9342.1703
SEQUENCE:3
DTSTAMP:20260423T092520Z
URL:http://georgiahcaga.memberzone.com/events/details/mmip-brown-bag-series-1703
END:VEVENT

END:VCALENDAR
